BEGIN:VCALENDAR
VERSION:2.0
PRODID:-//Faculty of Arts and Humanities | University of Macau - ECPv5.15.0.1//NONSGML v1.0//EN
CALSCALE:GREGORIAN
METHOD:PUBLISH
X-WR-CALNAME:Faculty of Arts and Humanities | University of Macau
X-ORIGINAL-URL:https://fah.um.edu.mo/?lang=pt-pt
X-WR-CALDESC:Events for Faculty of Arts and Humanities | University of Macau
REFRESH-INTERVAL;VALUE=DURATION:PT1H
X-Robots-Tag:noindex
X-PUBLISHED-TTL:PT1H
BEGIN:VTIMEZONE
TZID:UTC
BEGIN:STANDARD
TZOFFSETFROM:+0000
TZOFFSETTO:+0000
TZNAME:UTC
DTSTART:20250101T000000
END:STANDARD
END:VTIMEZONE
BEGIN:VEVENT
DTSTART;TZID=UTC:20250122T100000
DTEND;TZID=UTC:20250122T113000
DTSTAMP:20260426T112404
CREATED:20250110T065935Z
LAST-MODIFIED:20250110T070133Z
UID:1007004-1737540000-1737545400@fah.um.edu.mo
SUMMARY:人文學院中國語言文學系嘉賓講座: “自然語言處理與大模型：回顧與思考" - 王厚峰教授 FAH-DCLL Guest Lecture: “Large Language Models and Natural Language Process” by Prof. Wang Houfeng
DESCRIPTION:
URL:https://fah.um.edu.mo/event/lecture-by-prof-wang-houfeng-2025-01/?lang=pt-pt
LOCATION:E21-2100
CATEGORIES:中國語言文學系
ATTACH;FMTTYPE=image/png:https://fah.um.edu.mo/wp-content/uploads/2025/01/poster-prof-wang-houfeng-1.png
ORGANIZER;CN="Department%20of%20Chinese%20Language%20and%20Literature":MAILTO:fah.chinese@um.edu.mo
END:VEVENT
END:VCALENDAR