BEGIN:VCALENDAR
VERSION:2.0
PRODID:-//Faculty of Arts and Humanities | University of Macau - ECPv5.15.0.1//NONSGML v1.0//EN
CALSCALE:GREGORIAN
METHOD:PUBLISH
X-WR-CALNAME:Faculty of Arts and Humanities | University of Macau
X-ORIGINAL-URL:https://fah.um.edu.mo
X-WR-CALDESC:Events for Faculty of Arts and Humanities | University of Macau
REFRESH-INTERVAL;VALUE=DURATION:PT1H
X-Robots-Tag:noindex
X-PUBLISHED-TTL:PT1H
BEGIN:VTIMEZONE
TZID:Asia/Macau
BEGIN:STANDARD
TZOFFSETFROM:+0800
TZOFFSETTO:+0800
TZNAME:CST
DTSTART:20200101T000000
END:STANDARD
END:VTIMEZONE
BEGIN:VEVENT
DTSTART;VALUE=DATE:20200102
DTEND;VALUE=DATE:20200830
DTSTAMP:20260425T213051
CREATED:20201023T065210Z
LAST-MODIFIED:20201023T065210Z
UID:6016-1577923200-1598745599@fah.um.edu.mo
SUMMARY:DPORT-CPC-CRIpor: International Radio Programme in Portuguese – “Chinese Ideas” – Season 1
DESCRIPTION:Organizational units: University of Macau (UM)’s Department of Portuguese (DP) and the Chinese-Portuguese Bilingual Teaching and Training Centre (CPC)\, with the Department of Portuguese Language of the China Radio International (CRIpor) \nPeriod: January 2nd to June 30th 2020 (15 episodes) \nSchedule: Broadcast every Wednesdays in Portugal and every Fridays in Brazil \nPurpose and objective of the radio talk: The program\, titled “Chinese Ideas”\, will offer a systematic introduction to a group of major thinkers and works which shaped the Chinese intellectual tradition. It is aimed at the Portuguese-speaking general public and requires no previous knowledge of Chinese. The broadcasts are multidisciplinary in scope\, providing the necessary background to put authors and ideas in their appropriate cultural context. Moreover\, other than laying out a factual outline\, the talks will also adopt a comparative outlook\, with a view to engaging the audience with the ancient Chinese mindset and worldview. \nSeason 1: Confucius and the Analects \nTo listen to the radio program\, please visit the following weblink: \nEpisode 1: http://portuguese.cri.cn/audioonline/silkroad/415/20200106/403215.html \nEpisode 2: http://portuguese.cri.cn/audioonline/silkroad/415/20200109/404699.html \nEpisode 3: http://portuguese.cri.cn/audioonline/silkroad/415/20200513/466301.html \nEpisode 4: http://portuguese.cri.cn/audioonline/silkroad/415/20200513/466320.html \nEpisode 5: http://portuguese.cri.cn/audioonline/silkroad/415/20200520/469692.html \nEpisode 6: http://portuguese.cri.cn/audioonline/silkroad/415/20200520/469695.html \nEpisode 7: http://portuguese.cri.cn/audioonline/silkroad/415/20200520/469705.html \nEpisode 8: http://portuguese.cri.cn/audioonline/silkroad/415/20200520/469710.html \nEpisode 9: http://portuguese.cri.cn/audioonline/silkroad/415/20200708/501706.html \nEpisode 10: http://portuguese.cri.cn/audioonline/silkroad/415/20200805/520437.html \nEpisode 11: http://portuguese.cri.cn/audioonline/silkroad/415/20200805/520440.html
URL:https://fah.um.edu.mo/event/dport-cpc-cripor-international-radio-programme-in-portuguese-chinese-ideas-season-1/
CATEGORIES:Department of Portuguese
ATTACH;FMTTYPE=image/png:https://fah.um.edu.mo/wp-content/uploads/2020/09/radio-poster-5.png
ORGANIZER;CN="Chinese-Portuguese%20Bilingual%20Teaching%20and%20Training%20Centre":MAILTO:BilingualCentre@um.edu.mo
END:VEVENT
BEGIN:VEVENT
DTSTART;TZID=Asia/Macau:20200114T183000
DTEND;TZID=Asia/Macau:20200225T210000
DTSTAMP:20260425T213051
CREATED:20201023T073104Z
LAST-MODIFIED:20201023T073104Z
UID:6085-1579026600-1582664400@fah.um.edu.mo
SUMMARY:A1 Level Portuguese Program for Healthcare Professionals III
DESCRIPTION:A1 level Portuguese program for Healthcare Professionals III \n\nOrganizational units: Portuguese Institute of the Orient (IPOR) & Chinese Portuguese Bilingual Teaching and Training Centre (CPC)\nPeriod: January 14th to February 25th 2020 (30 hours)\nSchedule: Every Tuesdays and Thursdays\, from 6.30pm to 9.00pm at IPOR\nRegistration: IPOR reception counter (10:00-18:30)\nSeats limited to 20\, on a first-come-first-served basis. Please complete the registration and pay the deposit to IPOR. Your seat will only be confirmed after making a full deposit payment to IPOR.\nCosts:  500 MOP deposit and refundable if participants meet 80% of attendance requirement; plus 250 MOP for course materials.\nRegistration Link: https://forms.gle/GZasMweurdNHLDTc6 (Deadline: 12:00 p.m. January 10th 2020)
URL:https://fah.um.edu.mo/event/a1-level-portuguese-program-for-healthcare-professionals-iii/
LOCATION:Portuguese Institute of the Orient (IPOR)
CATEGORIES:Department of Portuguese
ATTACH;FMTTYPE=image/png:https://fah.um.edu.mo/wp-content/uploads/2020/10/curso-saude3-1-849x1200-1.png
ORGANIZER;CN="Chinese-Portuguese%20Bilingual%20Teaching%20and%20Training%20Centre":MAILTO:BilingualCentre@um.edu.mo
END:VEVENT
END:VCALENDAR