BEGIN:VCALENDAR
VERSION:2.0
PRODID:-//Faculty of Arts and Humanities | University of Macau - ECPv5.15.0.1//NONSGML v1.0//EN
CALSCALE:GREGORIAN
METHOD:PUBLISH
X-WR-CALNAME:Faculty of Arts and Humanities | University of Macau
X-ORIGINAL-URL:https://fah.um.edu.mo
X-WR-CALDESC:Events for Faculty of Arts and Humanities | University of Macau
REFRESH-INTERVAL;VALUE=DURATION:PT1H
X-Robots-Tag:noindex
X-PUBLISHED-TTL:PT1H
BEGIN:VTIMEZONE
TZID:Asia/Macau
BEGIN:STANDARD
TZOFFSETFROM:+0800
TZOFFSETTO:+0800
TZNAME:CST
DTSTART:20200101T000000
END:STANDARD
END:VTIMEZONE
BEGIN:VEVENT
DTSTART;TZID=Asia/Macau:20200821T090000
DTEND;TZID=Asia/Macau:20200930T173000
DTSTAMP:20260425T185036
CREATED:20200921T081519Z
LAST-MODIFIED:20201023T064221Z
UID:2213-1598000400-1601487000@fah.um.edu.mo
SUMMARY:Anti-epidemic Exhibition: Poetry\, Calligraphy and Painting
DESCRIPTION:Opening CeremonyDate: 21 August 2020Time: 11:00am~11:30amVenue: Room G016\, Cultural Building\, Exhibition and Multi-function Hall (34) \n\n\n\nExhibition PeriodDate: 21 August 2020 – 30 September 2020Time: 9:00 am to 5:30 pm\, Monday to Friday (excluding public holidays)  \n\n\n\n\n\n\n\n\n\n\n\n\n\n 
URL:https://fah.um.edu.mo/event/anti-epidemic-exhibition-poetry-calligraphy-and-painting/
LOCATION:Room G016\, Cultural Building\, Exhibition and Multi-function Hall (34)
CATEGORIES:Centre for Chinese History and Culture
ATTACH;FMTTYPE=image/jpeg:https://fah.um.edu.mo/wp-content/uploads/2020/09/e5b195e8a6bdposter_20200812-1.jpg
ORGANIZER;CN="Centre%20for%20Chinese%20History%20and%20Culture":MAILTO:cchc.info@um.edu.mo
END:VEVENT
BEGIN:VEVENT
DTSTART;TZID=Asia/Macau:20200901T150000
DTEND;TZID=Asia/Macau:20201023T180000
DTSTAMP:20260425T185036
CREATED:20200921T091533Z
LAST-MODIFIED:20200921T091707Z
UID:2278-1598972400-1603476000@fah.um.edu.mo
SUMMARY:Workshop on Strategies to Excel in the Examinations of CAPLE-ULisboa
DESCRIPTION:
URL:https://fah.um.edu.mo/event/workshop-on-strategies-to-excel-in-the-examinations-of-caple-ulisboa/
LOCATION:Zoom
CATEGORIES:Department of Portuguese
ATTACH;FMTTYPE=image/png:https://fah.um.edu.mo/wp-content/uploads/2020/09/caple-848x1200-1.png
ORGANIZER;CN="Chinese-Portuguese%20Bilingual%20Teaching%20and%20Training%20Centre":MAILTO:BilingualCentre@um.edu.mo
END:VEVENT
END:VCALENDAR