BEGIN:VCALENDAR
VERSION:2.0
PRODID:-//Faculty of Arts and Humanities | University of Macau - ECPv5.15.0.1//NONSGML v1.0//EN
CALSCALE:GREGORIAN
METHOD:PUBLISH
X-WR-CALNAME:Faculty of Arts and Humanities | University of Macau
X-ORIGINAL-URL:https://fah.um.edu.mo
X-WR-CALDESC:Events for Faculty of Arts and Humanities | University of Macau
REFRESH-INTERVAL;VALUE=DURATION:PT1H
X-Robots-Tag:noindex
X-PUBLISHED-TTL:PT1H
BEGIN:VTIMEZONE
TZID:Asia/Macau
BEGIN:STANDARD
TZOFFSETFROM:+0800
TZOFFSETTO:+0800
TZNAME:CST
DTSTART:20200101T000000
END:STANDARD
END:VTIMEZONE
BEGIN:VEVENT
DTSTART;TZID=Asia/Macau:20200917T090000
DTEND;TZID=Asia/Macau:20201218T173000
DTSTAMP:20260425T184851
CREATED:20200921T080359Z
LAST-MODIFIED:20201106T075603Z
UID:2206-1600333200-1608312600@fah.um.edu.mo
SUMMARY:English Writing and Communication Centre (EWCC) of FAH-ELC opens from September 17 to December 18\, 2020\, running on Zoom
DESCRIPTION:
URL:https://fah.um.edu.mo/event/english-writing-and-communication-centre-ewcc-of-fah-elc-opens-from-september-17-to-december-18-2020-running-on-zoom/
LOCATION:E7-1022
CATEGORIES:English Language Centre
ATTACH;FMTTYPE=image/png:https://fah.um.edu.mo/wp-content/uploads/2020/09/ewcc-promotional-poster_fall-2020-png-848x1200-1.png
ORGANIZER;CN="The%20English%20Writing%20and%20Communication%20Centre%20%28EWCC%29":MAILTO:ewcc@um.edu.mo
END:VEVENT
BEGIN:VEVENT
DTSTART;VALUE=DATE:20201027
DTEND;VALUE=DATE:20201210
DTSTAMP:20260425T184851
CREATED:20201028T065040Z
LAST-MODIFIED:20201028T065040Z
UID:6636-1603756800-1607558399@fah.um.edu.mo
SUMMARY:FAH-ELC Student Activity: i-Learner Contest
DESCRIPTION:This contest is for students who can use “i-Learner English for Universities platform” to practice English language skills online. Students need to complete as many i-Learner lessons as they can. The top 10 students\, who have completed the most numbers of lessons with the highest marks\, will be given attractive prizes up to MOP1\,000. \n  \nAll current ELC students are registered i-Learner users. Please follow the steps below to start accumulating the i-Learner lessons now! \n  \n\nLog into https://um.i-learner.com.hk/ with your UM account information.\nChoose “ELC Language Centre” (not Residential Colleges)\nChoose the topics and levels that you like.\nComplete as many lessons as you can in order to be competitive in the i-Learner Contest!\n\n  \nIf you have any further questions\, please contact us via email: fah_elc_elta@um.edu.mo
URL:https://fah.um.edu.mo/event/fah-elc-student-activity-i-learner-contest/
LOCATION:https://um.i-learner.com.hk/
CATEGORIES:English Language Centre
ATTACH;FMTTYPE=image/jpeg:https://fah.um.edu.mo/wp-content/uploads/2020/10/i-learner-contest_poster-848x1200-1.jpg
ORGANIZER;CN="English%20Language%20Centre":MAILTO:fah.elc@um.edu.mo
END:VEVENT
BEGIN:VEVENT
DTSTART;VALUE=DATE:20201103
DTEND;VALUE=DATE:20201210
DTSTAMP:20260425T184851
CREATED:20201106T070839Z
LAST-MODIFIED:20201114T060036Z
UID:8502-1604361600-1607558399@fah.um.edu.mo
SUMMARY:ELC Student Activity – 2020 ELC English Festival: “Tending to Your Mind”
DESCRIPTION:Please check out the featured English Festival activities: \n\n	\n		\n	\n	\n	\n	\n		1. "English Festival Video"	\n	\n	\n\n	\nDescription: \nThe 2020 ELC English Festival is here! The theme of this year’s English Festival is “Tending to Your Mind.” Through this theme\, we would like to raise students’ awareness on the importance of mental health. A series of inspiring English activities will be held from November 3 to December 9\, 2020. Want to learn English and explore your inner mind in a relaxing way? Please don’t hesitate to sign up and join us! \nPlease see the following posters for registration and details. \nShould you have any inquiries\, please feel free to contact us. \n\n		\n		\n			\n				\n			\n				\n				1. Poster Cover\n				\n			\n				\n			\n				\n				2. Registration links\n				\n			\n				\n			\n				\n				3. Video contest and registration link\n				\n			\n				\n			\n				\n				4. Poetry writing workshop and registration link\n				\n			\n				\n			\n				\n				5. Film documentary screening and registration link\n				\n			\n				\n			\n				\n				6. Mental health guest talk and registration link
URL:https://fah.um.edu.mo/event/elc-student-activity-2020-elc-english-festival-tending-to-your-mind/
LOCATION:Please refer to the posters
CATEGORIES:English Language Centre
ATTACH;FMTTYPE=image/png:https://fah.um.edu.mo/wp-content/uploads/2020/11/a-2-848x1200-1.png
ORGANIZER;CN="ELC":MAILTO:fah_elc_elta@um.edu.mo
END:VEVENT
BEGIN:VEVENT
DTSTART;VALUE=DATE:20201107
DTEND;VALUE=DATE:20201129
DTSTAMP:20260425T184851
CREATED:20201106T071936Z
LAST-MODIFIED:20201106T071936Z
UID:8548-1604707200-1606607999@fah.um.edu.mo
SUMMARY:FAH-DCLL: Photography Exhibition for Field trips to the Greater Bay Area by students and staff 人文學院中國語言文學系：“教與學：走進大灣區”—澳門大學中文系師生攝影展
DESCRIPTION:
URL:https://fah.um.edu.mo/event/fah-dcll-photography-exhibition-for-field-trips-to-the-greater-bay-area-by-students-and-staff-%e4%ba%ba%e6%96%87%e5%ad%b8%e9%99%a2%e4%b8%ad%e5%9c%8b%e8%aa%9e%e8%a8%80%e6%96%87%e5%ad%b8%e7%b3%bb/
LOCATION:E34-G016
CATEGORIES:Centre for Chinese History and Culture
ATTACH;FMTTYPE=image/png:https://fah.um.edu.mo/wp-content/uploads/2020/11/e6beb3e99680e5a4a7e5adb8e4b8ade69687e7b3bbe5b8abe7949fe6949de5bdb1e5b195-s_2020-862x1200-1.png
ORGANIZER;CN="Department%20of%20Chinese%20Language%20and%20Literature":MAILTO:fah.chinese@um.edu.mo
END:VEVENT
BEGIN:VEVENT
DTSTART;TZID=Asia/Macau:20201127T180000
DTEND;TZID=Asia/Macau:20201127T200000
DTSTAMP:20260425T184851
CREATED:20201123T085250Z
LAST-MODIFIED:20201123T095624Z
UID:9039-1606500000-1606507200@fah.um.edu.mo
SUMMARY:FAH-DPORT: Seminar on "BILINGUALISM\, LANGUAGES OF HERITAGE AND EDUCATIONAL PRACTICE: TO MAKE KNOWN THE PROBLEM RELATED TO HERITAGE"
DESCRIPTION:BILINGUISMO\, LÍNGUAS DE HERANÇA E PRÁTICA LETIVA: DAR A CONHECER A PROBLEMÁTICA RELACIONADA COM A HERANÇA. \nBILINGUALISM\, LANGUAGES OF HERITAGE AND EDUCATIONAL PRACTICE: TO MAKE KNOWN THE PROBLEM RELATED TO HERITAGE \nABSTRACT \nAccording to Flory & Souza (2009)\, studies show that there is no universally accepted definition for bilingualism and for this reason; it makes sense to investigate this phenomenon in relation to its social\, cultural\, linguistic and cognitive consequences. Garcia (2009) understands bilingualism as a complex linguistic\, psychological and sociocultural behavior\, and that has multidimensional aspects because it involves different areas of human life (social\, cultural\, family\, identity\, linguistic\, emotional). Thus\, our goal is to discuss bilingualism as a complex phenomenon in which various elements interact and\, as such\, can be observed and analyzed from different perspectives. It is also our intention to establish your relationship with the languages of heritage \nKey works: Bilingualism. Heritage language: Identity \nSHORT BIO \nProfessor Maria Luisa Ortiz Alvarez graduated in Russian language and literature and pursued her Master degree of Pedagogical Sciences from the Moscow Higher Pedagogical Institute. She holds a PhD in Applied Linguistics from the State University of Campinas\, a postdoctoral degree from the Federal University of Bahia and a postdoctoral degree from the University of Santiago de Compostela\, Spain. She also graduated as a teacher of Portuguese at the University of Havana\, Cuba in 1992\, where she worked as a teacher trainer of Russian language for 22 years (1978 -2000) and 10 years (1990 – 2000) as a teacher trainer of Portuguese as a foreign language. \nShe is currently an Associate Professor (level IV) of the Institute of Letters of the University of Brasilia\, an institution in which she has already held the positions of Deputy Head of the Department of Foreign Languages and Translation and Coordinator of the Postgraduate Program in Applied Linguistics. In 2006 she was elected director of the Institute of Letters from 2006 to 2010 and re-elected in 2010 from 2010 to 2014. \nShe was a member of the Board of Directors of the International Society of Portuguese as a Foreign Language (Siple) between 2001 and 2004. She is currently a member of the SIPLE Advisory Board (2010-2013 and 2014-2017). In 2005\, she was elected president of the Association of Applied Linguistics of Brazil (Alab) and re-elected in 2007. She was a member of the ALAB Advisory Board from 2009 to 2011. \nShe has an extensive record of publications and research work. She is also involved in teacher training of Portuguese as a Foreign Language in several countries worldwide (Mexico\, Argentina\, Paraguay\, United States\, Uruguay\, Switzerland\, Cuba\, Colombia\, and Spain\, among others). \nShe is an external collaborator of the FRASEONET Research Group of the University of Santiago de Compostela\, at the invitation of the project coordinator Prof. Dr. Maria Isabel Gonzalez Del Rey. She is currently doing her third Postdoctoral in the area of Portuguese as an Heritage Language under the supervision of Prof. Dr. Katia Chulata from the University of Pescara\, Italy and Prof. Dr. Maria José Grosso from the University of Macau \nShe has 4 book chapters in the press\, three of them to be published in 2020 and one in 2021.
URL:https://fah.um.edu.mo/event/fah-dport-seminar-on-bilingualism-languages-of-heritage-and-educational-practice-to-make-known-the-problem-related-to-heritage/
LOCATION:https://umac.zoom.us/j/96420708931
CATEGORIES:Department of Portuguese,Faculty
ORGANIZER;CN="Department%20of%20Portuguese":MAILTO:fah.portuguese@um.edu.mo
END:VEVENT
END:VCALENDAR