BEGIN:VCALENDAR
VERSION:2.0
PRODID:-//Faculty of Arts and Humanities | University of Macau - ECPv5.15.0.1//NONSGML v1.0//EN
CALSCALE:GREGORIAN
METHOD:PUBLISH
X-WR-CALNAME:Faculty of Arts and Humanities | University of Macau
X-ORIGINAL-URL:https://fah.um.edu.mo
X-WR-CALDESC:Events for Faculty of Arts and Humanities | University of Macau
REFRESH-INTERVAL;VALUE=DURATION:PT1H
X-Robots-Tag:noindex
X-PUBLISHED-TTL:PT1H
BEGIN:VTIMEZONE
TZID:Asia/Macau
BEGIN:STANDARD
TZOFFSETFROM:+0800
TZOFFSETTO:+0800
TZNAME:CST
DTSTART:20200101T000000
END:STANDARD
END:VTIMEZONE
BEGIN:VEVENT
DTSTART;TZID=Asia/Macau:20200917T090000
DTEND;TZID=Asia/Macau:20201218T173000
DTSTAMP:20260425T184935
CREATED:20200921T080359Z
LAST-MODIFIED:20201106T075603Z
UID:2206-1600333200-1608312600@fah.um.edu.mo
SUMMARY:English Writing and Communication Centre (EWCC) of FAH-ELC opens from September 17 to December 18\, 2020\, running on Zoom
DESCRIPTION:
URL:https://fah.um.edu.mo/event/english-writing-and-communication-centre-ewcc-of-fah-elc-opens-from-september-17-to-december-18-2020-running-on-zoom/
LOCATION:E7-1022
CATEGORIES:English Language Centre
ATTACH;FMTTYPE=image/png:https://fah.um.edu.mo/wp-content/uploads/2020/09/ewcc-promotional-poster_fall-2020-png-848x1200-1.png
ORGANIZER;CN="The%20English%20Writing%20and%20Communication%20Centre%20%28EWCC%29":MAILTO:ewcc@um.edu.mo
END:VEVENT
BEGIN:VEVENT
DTSTART;VALUE=DATE:20201130
DTEND;VALUE=DATE:20210902
DTSTAMP:20260425T184935
CREATED:20201130T085133Z
LAST-MODIFIED:20210901T033520Z
UID:10020-1606694400-1630540799@fah.um.edu.mo
SUMMARY:DPORT-CPC-CRIPOR: INTERNATIONAL RADIO PROGRAMME IN PORTUGUESE – “CHINESE IDEAS” – SEASON 2
DESCRIPTION:Organizational units: University of Macau (UM)’s Department of Portuguese (DPORT) and the Chinese-Portuguese Bilingual Teaching and Training Centre (CPC)\, with the Department of Portuguese Language of the China Radio International (CRIpor) \nPeriod: Continue to be updated (15 episodes) \nPurpose and objective of the radio talk: The program\, titled “Chinese Ideas”\, will offer a systematic introduction to a group of major thinkers and works which shaped the Chinese intellectual tradition. It is aimed at the Portuguese-speaking general public and requires no previous knowledge of Chinese. The broadcasts are multidisciplinary in scope\, providing the necessary background to put authors and ideas in their appropriate cultural context. Moreover\, other than laying out a factual outline\, the talks will also adopt a comparative outlook\, with a view to engaging the audience with the ancient Chinese mindset and worldview. \nSeason 2: “Laozi” and the Dao de Jing \nTo listen to the radio program\, please visit the following weblink: \nEpisode 1: http://portuguese.cri.cn/audioonline/silkroad/415/20201130/584920.html \nEpisode 2: http://portuguese.cri.cn/audioonline/silkroad/415/20201130/584924.html \nEpisode 3: http://portuguese.cri.cn/audioonline/silkroad/415/20201130/584944.html \nEpisode 4: http://portuguese.cri.cn/audioonline/silkroad/415/20201130/584945.html \nEpisode 5: http://portuguese.cri.cn/audioonline/silkroad/415/20201130/584957.html \nEpisode 6: http://portuguese.cri.cn/audioonline/silkroad/415/20210301/627385.html \nEpisode 7: http://portuguese.cri.cn/audioonline/silkroad/415/20210318/637019.html \nEpisode 8: http://portuguese.cri.cn/audioonline/silkroad/415/20210318/637031.html \nEpisode 9: http://portuguese.cri.cn/audioonline/silkroad/415/20210513/662383.html \nEpisode 10: http://portuguese.cri.cn/audioonline/silkroad/415/20210513/662394.html \nEpisode 11: http://portuguese.cri.cn/audioonline/silkroad/415/20210831/698829.html \nEpisode 12: http://portuguese.cri.cn/audioonline/silkroad/415/20210831/698830.html \nEpisode 13: http://portuguese.cri.cn/audioonline/silkroad/415/20210831/698831.html \nEpisode 14: http://portuguese.cri.cn/audioonline/silkroad/415/20210831/698832.html \nEpisode 15: http://portuguese.cri.cn/audioonline/silkroad/415/20210831/698833.html
URL:https://fah.um.edu.mo/event/dport-cpc-cripor-international-radio-programme-in-portuguese-chinese-ideas-season-2/
CATEGORIES:Chinese-Portuguese Bilingual Teaching and Training Centre
ATTACH;FMTTYPE=image/png:https://fah.um.edu.mo/wp-content/uploads/2020/11/radio-s2-v7.png
ORGANIZER;CN="Chinese-Portuguese%20Bilingual%20Teaching%20and%20Training%20Centre":MAILTO:BilingualCentre@um.edu.mo
END:VEVENT
BEGIN:VEVENT
DTSTART;VALUE=DATE:20201213
DTEND;VALUE=DATE:20201214
DTSTAMP:20260425T184935
CREATED:20201211T090128Z
LAST-MODIFIED:20201211T090128Z
UID:12325-1607817600-1607903999@fah.um.edu.mo
SUMMARY:Please join the UM Team and support the online Walk for a Million!
DESCRIPTION:The annual charity event\, Walk for a Million\, will be held online this year on 13 December (Sunday). You are welcome to join the UM team through either of the following ways. \n1. Via WeChat App ‘Online Walk for a Million’ \n\n\n\n\n\n\n\nScan the QR code on the poster on or before 23:59 of 11 December to join the online Walk for a Million\, or\nSearch for the WeChat APP ‘Online Walk for a Million’ \, and type in the code for the UM Team\, ‘KYLJLSX’\n\n\n\n\n\n\n\n\n \n  \n2. Enable WeRun for Step CountingParticipants should enable WeRun before 13 December for step counting on the day of the walk (This can be done repeatedly without affecting the original number of steps on WeRun) \nYou are welcome to invite your family and friends to join us by sharing the UM poster with them. Upon successful registration\, you will receive an electronic walking certificate. Individuals who complete 6\,000 steps or more and organisations who compete 1 million steps or more\, during the day of the walk\, will receive an electronic certificate in recognition of their participation in this charity event. \n  \nFor students:\nIf students walk over 6000 steps for the online walk for a million under the group of “University of Macau”\, students can get one Smart Point and 35 Citizenship with Global Perspectives CS points after they submit the online walk electronic certificate on e-form: https://go.um.edu.mo/n8nsam36 before 16 December (Wednesday).\n\n \nFor enquiries\, please contact Ms Connie Cheong of the Public Relations Section\, Communications Office at 8822 8090 or conniecheong@um.edu.mo
URL:https://fah.um.edu.mo/event/please-join-the-um-team-and-support-the-online-walk-for-a-million/
ATTACH;FMTTYPE=image/jpeg:https://fah.um.edu.mo/wp-content/uploads/2020/12/0.jpg
END:VEVENT
BEGIN:VEVENT
DTSTART;TZID=Asia/Macau:20201213T143000
DTEND;TZID=Asia/Macau:20201213T163000
DTSTAMP:20260425T184935
CREATED:20201211T035238Z
LAST-MODIFIED:20201211T103321Z
UID:12156-1607869800-1607877000@fah.um.edu.mo
SUMMARY:FAH-CCHC: "Cultural Responsibility in disaster"
DESCRIPTION:Event Name\n:\nFAH-CCHC: “Cultural Responsibility in disaster”\n\n\nCategories\n:\nSeminar / Lecture\n\n\nOrganizer\n:\nFAH – Centre for Chinese History and Culture (CCHC)\n\n\nSpeaker\n:\nProf. TANG Chon Chit\n\n\nDate\n:\n13 DEC 2020\n\n\nTime\n:\n14:30 – 16:30\n\n\nVenue\n:\nZoom\n\n\nContent\n:\nZoom: https://umac.zoom.us/ j/ 7053346108?pwd=YkhacHFjbi9Mb2JXMzY0dytHa0JDQT09\nID：705 334 6108\nPASSWORD：88222708\n\n\nTarget Audience\n:\nAll are welcome\n\n\n\n  \nContact Person for Details\n\n\n\nName\n:\nMs. Tong (Stephenie)\n\n\nTel. No\n:\n8822-2708\n\n\nFax\n:\n8822-2383\n\n\nEmail\n:\ncchc.info@um.edu.mo
URL:https://fah.um.edu.mo/event/fah-cchc-cultural-responsibility-in-disaster/
LOCATION:ZOOM
CATEGORIES:Centre for Chinese History and Culture
ATTACH;FMTTYPE=image/png:https://fah.um.edu.mo/wp-content/uploads/2020/12/unnamed-file-1.png
END:VEVENT
BEGIN:VEVENT
DTSTART;TZID=Asia/Macau:20201213T180000
DTEND;TZID=Asia/Macau:20201213T193000
DTSTAMP:20260425T184935
CREATED:20210330T040208Z
LAST-MODIFIED:20210330T040339Z
UID:24484-1607882400-1607887800@fah.um.edu.mo
SUMMARY:人文學院中國語言文學系嘉賓講座：“海外漢學研究四題”- 張西平教授 FAH-DCLL Guest Lecture: “Four Topics on Sinology” by Prof. Zhang Xiping
DESCRIPTION:
URL:https://fah.um.edu.mo/event/four-topics-on-sinology-by-prof-zhang-xiping/
LOCATION:E21-G049
CATEGORIES:Department of Chinese language and Literature
ATTACH;FMTTYPE=image/png:https://fah.um.edu.mo/wp-content/uploads/2021/03/202012.png
END:VEVENT
END:VCALENDAR