BEGIN:VCALENDAR
VERSION:2.0
PRODID:-//Faculty of Arts and Humanities | University of Macau - ECPv5.15.0.1//NONSGML v1.0//EN
CALSCALE:GREGORIAN
METHOD:PUBLISH
X-WR-CALNAME:Faculty of Arts and Humanities | University of Macau
X-ORIGINAL-URL:https://fah.um.edu.mo
X-WR-CALDESC:Events for Faculty of Arts and Humanities | University of Macau
REFRESH-INTERVAL;VALUE=DURATION:PT1H
X-Robots-Tag:noindex
X-PUBLISHED-TTL:PT1H
BEGIN:VTIMEZONE
TZID:UTC
BEGIN:STANDARD
TZOFFSETFROM:+0000
TZOFFSETTO:+0000
TZNAME:UTC
DTSTART:20240101T000000
END:STANDARD
END:VTIMEZONE
BEGIN:VEVENT
DTSTART;TZID=UTC:20240909T100000
DTEND;TZID=UTC:20250209T170000
DTSTAMP:20260425T224436
CREATED:20241206T091953Z
LAST-MODIFIED:20241206T092544Z
UID:987771-1725876000-1739120400@fah.um.edu.mo
SUMMARY:Compilation of Classics in the Flourishing Age—Special Exhibition in Macao for Compiling ‘A Comprehensive Collection of Ancient Chinese Paintings’
DESCRIPTION:
URL:https://fah.um.edu.mo/event/compilation-of-classics-in-the-flourishing-age-special-exhibition-in-macao-for-compiling-a-comprehensive-collection-of-ancient-chinese-paintings/
LOCATION:Museum of Art\, University of Macau Wu Yee Sun Library (E2)1F\, Museum of Art\, University of Macau Wu Yee Sun Library (E2)1F
CATEGORIES:Department of Arts and Design
ATTACH;FMTTYPE=image/webp:https://fah.um.edu.mo/wp-content/uploads/2024/12/351695-1-e1733477128741.webp
ORGANIZER;CN="Department%20of%20Arts%20and%20Design":MAILTO:fah.dad@um.edu.mo
END:VEVENT
BEGIN:VEVENT
DTSTART;VALUE=DATE:20241023
DTEND;VALUE=DATE:20241231
DTSTAMP:20260425T224436
CREATED:20241010T084223Z
LAST-MODIFIED:20241010T084223Z
UID:939130-1729641600-1735603199@fah.um.edu.mo
SUMMARY:"I came here to see the world"---The Life Journey of the Portuguese Writer Maria Ondina Braga
DESCRIPTION:
URL:https://fah.um.edu.mo/event/i-came-here-to-see-the-world-the-life-journey-of-the-portuguese-writer-maria-ondina-braga/
LOCATION:Portuguese Corner\, 2/F UM Wu Yee Sun Library (E2)
CATEGORIES:Chinese-Portuguese Bilingual Teaching and Training Centre
ATTACH;FMTTYPE=image/jpeg:https://fah.um.edu.mo/wp-content/uploads/2024/10/cpc-poster-rgb-300dpi-scaled.jpg
ORGANIZER;CN="Chinese-Portuguese%20Bilingual%20Teaching%20and%20Training%20Centre":MAILTO:BilingualCentre@um.edu.mo
END:VEVENT
BEGIN:VEVENT
DTSTART;VALUE=DATE:20241031
DTEND;VALUE=DATE:20250503
DTSTAMP:20260425T224436
CREATED:20241031T020114Z
LAST-MODIFIED:20241031T020312Z
UID:954165-1730332800-1746230399@fah.um.edu.mo
SUMMARY:FAH/DPHIL: The Mario Echano Prize for the Best Undergraduate Philosophy Essay
DESCRIPTION:The Mario Echano Prize for the Best Undergraduate Philosophy Essay is awarded for excellence in philosophy. Students enrolled in the Department of Philosophy and Religious Studies undergraduate courses are eligible to enter an essay for the annual award. \nStudents are invited to submit an academic essay written as an assignment in one of the Department of Philosophy and Religious Studies’ undergraduate courses this academic year (AY2024/2025). Essays of any length are acceptable. The organisers reserve the right not to award the prize if essays are not of sufficiently high standard. \nPlease submit essays by e-mail with the subject line ‘Submission for the Mario Echano Prize’ to Maggie Wong at MaggieWong@um.edu.mo. Attach your essay to the message as a Microsoft Word document (other formats will not be accepted). Please give your name\, student number\, and the name of the course for which you wrote the essay\, on the first page of the essay. The deadline for submission is Friday\, 2nd May 2025. \nWe look forward to your submissions.
URL:https://fah.um.edu.mo/event/fah-dphil-the-mario-echano-prize-for-the-best-undergraduate-philosophy-essay-4/
CATEGORIES:Department of Philosophy and Religious Studies
ATTACH;FMTTYPE=image/jpeg:https://fah.um.edu.mo/wp-content/uploads/2024/10/poster-3.jpg
ORGANIZER;CN="Department%20of%20Philosophy%20and%20Religious%20Studies":MAILTO:maggiewong@um.edu.mo
END:VEVENT
BEGIN:VEVENT
DTSTART;TZID=UTC:20241205T100000
DTEND;TZID=UTC:20250331T170000
DTSTAMP:20260425T224436
CREATED:20241206T090223Z
LAST-MODIFIED:20241206T090223Z
UID:987537-1733392800-1743440400@fah.um.edu.mo
SUMMARY:Winds of Confluence: The Story of Macao in the Historical Archives of the Ming and Qing Dynasties
DESCRIPTION:
URL:https://fah.um.edu.mo/event/winds-of-confluence-the-story-of-macao-in-the-historical-archives-of-the-ming-and-qing-dynasties/
LOCATION:1/F of Zone C & E2-G012\, University of Macau Wu Yee Sun Library (E2)
CATEGORIES:Department of Arts and Design
ATTACH;FMTTYPE=image/jpeg:https://fah.um.edu.mo/wp-content/uploads/2024/12/img-8354.jpg
ORGANIZER;CN="Department%20of%20Arts%20and%20Design":MAILTO:fah.dad@um.edu.mo
END:VEVENT
BEGIN:VEVENT
DTSTART;TZID=UTC:20241206T080000
DTEND;TZID=UTC:20241207T170000
DTSTAMP:20260425T224436
CREATED:20241127T060914Z
LAST-MODIFIED:20241206T044929Z
UID:982863-1733472000-1733590800@fah.um.edu.mo
SUMMARY:International Academic Symposium: “Macao: A Place of Memory Where East Meets West” 
DESCRIPTION:The concept of “Place of Memory” was invented by the French scholar Pierre Nora\, renowned internationally for his monumental work Les Lieux de Mémoire. Amid the significant changes now occurring in the humanities and social sciences\, this symposium aims to consider Macao as a “Place of Memory” that bridges East and West\, and past and present. In response to the two major “turns” in historiography—global history and public history—we will explore the following issues from both methodological perspectives and practical case studies.\n  \n\n\n\n\n\n1. The Place of Memory—The Possibility of a New Historiography Using Macao as a Paradigmatic Example. The concept of “Place of Memory” is both simple and ambiguous\, natural but also artificial\, the most directly perceptible experience and the most abstract conceptions\, possessing reality\, symbolism\, and functionality. Macao’s places of memory naturally include over thirty visible World Heritage sites\, one of the official languages—Portuguese\, the ubiquitous “egg tarts” on its streets\, and its new visage after the return to Chinese sovereignty. Arguably\, Macao is a living “museum” reflecting the historical legacy of connections between China and the world. This symposium seeks to explore the possibility of a new historiography that transcends the binary divisions of past and present\, East and West\, through interdisciplinary methods.\n  \n\n\n\n2. Globalization—The Possibility of a Global History Centered on Macao. With the unfolding and growing complexity of globalization\, global history faces an opportunity for introspection. Specifically\, how can we inherit and carry on the earlier achievements of global history—such as Dependency Theory and the World System approach? How can we go beyond the global historical research one-sidedly focused on the “movement of materials\,” to strengthen studies on the “movement of people\,” “movement of knowledge\,” and “movement of spirits” in order to construct a holistic global history? This symposium will focus on Macao to explore the possibility of a distinctive Chinese global historical narrative that connects Europe\, Africa\, Asia\, and the Americas.\n  \n\n\n\n\n\n\n\nConference Rundown\n  \n\n\n\n\nOrganizer: \nDepartment of History\, University of Macau\n\n\nCo-organizers:\nInstitute of Advanced Studies in Humanities and Social Sciences\, University of Macau\nTranslation Team of the Complete Chinese Edition of Les Lieux de Mémoire\, Xueheng Institute for Advanced Studies\, Nanjing University  \nNagasaki Research Group\, International Research Center for Japanese Studies（Kyoto）
URL:https://fah.um.edu.mo/event/international-academic-symposium-macao-a-place-of-memory-where-east-meets-west/
LOCATION:E21-G035
CATEGORIES:Department of History
ATTACH;FMTTYPE=image/png:https://fah.um.edu.mo/wp-content/uploads/2024/11/unnamed-file.png
ORGANIZER;CN="Department%20of%20History":MAILTO:fah.history@um.edu.mo
END:VEVENT
BEGIN:VEVENT
DTSTART;TZID=UTC:20241206T150000
DTEND;TZID=UTC:20241206T170000
DTSTAMP:20260425T224436
CREATED:20241121T023053Z
LAST-MODIFIED:20241121T023053Z
UID:975483-1733497200-1733504400@fah.um.edu.mo
SUMMARY:Department of Japanese: Introduction to OJAD (Online Japanese Accent Dictionary) for your self-training of Japanese pronunciation
DESCRIPTION:
URL:https://fah.um.edu.mo/event/department-of-japanese-introduction-to-ojad-online-japanese-accent-dictionary-for-your-self-training-of-japanese-pronunciation/
LOCATION:E21-G047
CATEGORIES:Centre for Japanese Studies
ATTACH;FMTTYPE=image/jpeg:https://fah.um.edu.mo/wp-content/uploads/2024/11/20241206-ojad-workshopsum-1.jpg
END:VEVENT
END:VCALENDAR