BEGIN:VCALENDAR
VERSION:2.0
PRODID:-//Faculty of Arts and Humanities | University of Macau - ECPv5.15.0.1//NONSGML v1.0//EN
CALSCALE:GREGORIAN
METHOD:PUBLISH
X-WR-CALNAME:Faculty of Arts and Humanities | University of Macau
X-ORIGINAL-URL:https://fah.um.edu.mo
X-WR-CALDESC:Events for Faculty of Arts and Humanities | University of Macau
REFRESH-INTERVAL;VALUE=DURATION:PT1H
X-Robots-Tag:noindex
X-PUBLISHED-TTL:PT1H
BEGIN:VTIMEZONE
TZID:UTC
BEGIN:STANDARD
TZOFFSETFROM:+0000
TZOFFSETTO:+0000
TZNAME:UTC
DTSTART:20240101T000000
END:STANDARD
END:VTIMEZONE
BEGIN:VEVENT
DTSTART;VALUE=DATE:20241031
DTEND;VALUE=DATE:20250503
DTSTAMP:20260425T213049
CREATED:20241031T020114Z
LAST-MODIFIED:20241031T020312Z
UID:954165-1730332800-1746230399@fah.um.edu.mo
SUMMARY:FAH/DPHIL: The Mario Echano Prize for the Best Undergraduate Philosophy Essay
DESCRIPTION:The Mario Echano Prize for the Best Undergraduate Philosophy Essay is awarded for excellence in philosophy. Students enrolled in the Department of Philosophy and Religious Studies undergraduate courses are eligible to enter an essay for the annual award. \nStudents are invited to submit an academic essay written as an assignment in one of the Department of Philosophy and Religious Studies’ undergraduate courses this academic year (AY2024/2025). Essays of any length are acceptable. The organisers reserve the right not to award the prize if essays are not of sufficiently high standard. \nPlease submit essays by e-mail with the subject line ‘Submission for the Mario Echano Prize’ to Maggie Wong at MaggieWong@um.edu.mo. Attach your essay to the message as a Microsoft Word document (other formats will not be accepted). Please give your name\, student number\, and the name of the course for which you wrote the essay\, on the first page of the essay. The deadline for submission is Friday\, 2nd May 2025. \nWe look forward to your submissions.
URL:https://fah.um.edu.mo/event/fah-dphil-the-mario-echano-prize-for-the-best-undergraduate-philosophy-essay-4/
CATEGORIES:Department of Philosophy and Religious Studies
ATTACH;FMTTYPE=image/jpeg:https://fah.um.edu.mo/wp-content/uploads/2024/10/poster-3.jpg
ORGANIZER;CN="Department%20of%20Philosophy%20and%20Religious%20Studies":MAILTO:maggiewong@um.edu.mo
END:VEVENT
BEGIN:VEVENT
DTSTART;TZID=UTC:20241205T100000
DTEND;TZID=UTC:20250331T170000
DTSTAMP:20260425T213050
CREATED:20241206T090223Z
LAST-MODIFIED:20241206T090223Z
UID:987537-1733392800-1743440400@fah.um.edu.mo
SUMMARY:Winds of Confluence: The Story of Macao in the Historical Archives of the Ming and Qing Dynasties
DESCRIPTION:
URL:https://fah.um.edu.mo/event/winds-of-confluence-the-story-of-macao-in-the-historical-archives-of-the-ming-and-qing-dynasties/
LOCATION:1/F of Zone C & E2-G012\, University of Macau Wu Yee Sun Library (E2)
CATEGORIES:Department of Arts and Design
ATTACH;FMTTYPE=image/jpeg:https://fah.um.edu.mo/wp-content/uploads/2024/12/img-8354.jpg
ORGANIZER;CN="Department%20of%20Arts%20and%20Design":MAILTO:fah.dad@um.edu.mo
END:VEVENT
BEGIN:VEVENT
DTSTART;TZID=UTC:20250206T080000
DTEND;TZID=UTC:20250415T233000
DTSTAMP:20260425T213050
CREATED:20250206T090919Z
LAST-MODIFIED:20250206T091115Z
UID:1023683-1738828800-1744759800@fah.um.edu.mo
SUMMARY:ELC-Spring 2025 i-Learner English for Universities Marathon Competition
DESCRIPTION:This semester\, the ELC is thrilled to present the i-Learner English Marathon Competition! Dive into as many lessons as you can by April 15\, 2025. \nTo join the contest\, students have to complete a minimum requirement of lessons with a score of 70% or above. Students from UE1 to UE3 must complete a minimum of 35 lessons\, while students from E4 to E5 must complete at least 20 lessons to enter the competition. The ELC will select one champion who achieves the highest completion regardless of the level. The champion will be awarded a grand prize worth up to MOP 1\,000. Meanwhile\, the top students at each level who have completed the most will also be awarded amazing prizes for their outstanding efforts. \nThe ELC is also hosting a writing competition for UE 1-3 students. Students should complete the course required lessons (25 lessons for UE1/2\, 12 lessons for UE3)\, and submit the writing assignment for the last lesson. Students with the highest writing scores at their levels will be awarded. \nAll winners will receive a certificate from the ELC. \nAll students enrolled in ELC courses in 2024/25 are automatically registered as i-Learner users. Follow the steps below to explore new lessons: \n\nLog into https://um.i-learner.com.hk/ with your UM account information.\nLessons in both the “University English” and “English Marathon” sections are counted in the competition.\nChoose the topics at your current ELC levels.\nComplete as many lessons as you can with a score 70% or above to qualify!\n\n*Notes: \n\nScores will be valid only if you complete the i-Learner lessons at your current ELC course level\, e.g. students in EELC1011 should complete UE1 lessons\nUE1 lessons are open to EELC1011 students; UE2 lessons are open to EELC1012 students; UE3 lessons are open to EELC1013 students; Advanced Skills Practice lessons are open to EELC2008 to EELC2013 students.\n\nFor inquiries\, contact us at fah_elc_ells@um.edu.mo / ewcc@um.edu.mo. \nBest regards\, \nEnglish Language Centre \n親愛的同學們， \n澳門大學英語中心（ELC）將在本學期繼續舉辦i-Learner英語馬拉松競賽。競賽截止日期為2025年4月15日。 \n同學們需要在截止日期前完成要求課程節數，並獲得70%或以上的分數，方被納入參賽考量成績。UE1至UE3的學生須至少完成35課節，E4與E5的學生則須至少完成20課節。在眾多級別中表現最佳的總冠軍將獲得價值澳門幣1\,000元的獎品。與此同時，在各級別的榜首均能獲得精美獎品。 \n另外英語中心也會繼續舉辦UE 1-3寫作比賽。同學們須完成課程要求的寫作練習節數（UE1/2需25課節，UE3需12課節），並提交最後一節課的寫作作品，，各自級別最高分數的同學將獲頒獎品。 \n所有得獎者將獲得英語中心頒發的優秀證書。 \n所有在2024/25學年註冊ELC課程的學生都自動註冊為i-Learner用戶。按照以下步驟探索新課程： \n\n使用您的澳門大學帳戶信息登錄https://um.i-learner.com.hk/\n“大學英語”和“英語馬拉松”部分的課程都計入比賽\n選擇與您當前ELC課程級別相符的主題\n完成盡可能多的課程，並且確保分數超過70%\n\n*注意事項： \n\n只有在您當前ELC課程級別完成的i-Learner課程分數才有效，例如EELC1011的學生應完成UE1課程\nUE1課程開放給EELC1011學生；UE2課程開放給EELC1012學生；UE3課程開放給EELC1013學生；進階練習課程則開放給EELC2008至EELC2013的學生\n\n如有任何疑問，請通過fah_elc_ells@um.edu.mo / ewcc@um.edu.mo 與我們聯繫。 \n澳門大學人文學院英語中心謹啟
URL:https://fah.um.edu.mo/event/elc-spring-2025-i-learner-english-for-universities-marathon-competition/
CATEGORIES:English Language Centre
ATTACH;FMTTYPE=image/jpeg:https://fah.um.edu.mo/wp-content/uploads/2025/02/img-0481.jpeg
ORGANIZER;CN="ELC%20-%20English%20Writing%20and%20Communication%20Centre%20%28EWCC%29":MAILTO:ewcc@um.edu.mo
END:VEVENT
BEGIN:VEVENT
DTSTART;VALUE=DATE:20250210
DTEND;VALUE=DATE:20250308
DTSTAMP:20260425T213050
CREATED:20250121T030126Z
LAST-MODIFIED:20250121T030126Z
UID:1013312-1739145600-1741391999@fah.um.edu.mo
SUMMARY:ELC-EWCC: 21-Day Podcast Listening Challenge
DESCRIPTION:Dear Students\, \nWe’re excited to invite you to join our 21-Day Podcast Listening Challenge! This engaging activity will take place from February 10 to March 7. \nHere’s what to look forward to: \n\nCo-listening partners: You’ll team up with a peer to explore podcasts together.\nDedicated support: Four writing centre tutors will guide you in improving your listening skills.\nInteractive sessions: Spend 5 hours per week on podcasts and enjoy 1-hour weekly sessions at the writing centre. During these meetings\, you’ll learn effective listening techniques\, share ideas\, and practice your English-speaking skills.\n\nWe are welcoming 8 students to participate in this challenge. The seats are limited! Upon successful completion\, you’ll receive a Certificate of Completion and gain membership in our podcast club\, Postopedia! \nLet’s make this a fun and rewarding journey of learning together. \nHere is the link for you: https://umac.au1.qualtrics.com/jfe/form/SV_eXRp1srQHqa8Isu \n ↓  ↓ Register NOW ↓  ↓  \n \nBest wishes\, \nEnglish Writing and Communication Centre \nWriting and Communication Centre\nEnglish Language Centre\nFaculty of Arts and Humanities\nThe University of Macau
URL:https://fah.um.edu.mo/event/elc-ewcc-21-day-podcast-listening-challenge/
CATEGORIES:English Language Centre
ATTACH;FMTTYPE=image/png:https://fah.um.edu.mo/wp-content/uploads/2025/01/2025-fall-listening-podcast-challenge-1.png
ORGANIZER;CN="ELC%20-%20English%20Writing%20and%20Communication%20Centre%20%28EWCC%29":MAILTO:ewcc@um.edu.mo
END:VEVENT
BEGIN:VEVENT
DTSTART;TZID=UTC:20250211T133000
DTEND;TZID=UTC:20250430T160000
DTSTAMP:20260425T213050
CREATED:20250206T085436Z
LAST-MODIFIED:20250210T035843Z
UID:1023605-1739280600-1746028800@fah.um.edu.mo
SUMMARY:ELC-EWCC: “Library DROP-IN Tuesday”
DESCRIPTION:Dear students\, \nWhat’s your new year resolution for your academic studies? Have you ever explored the UM library\, and have you ever met with any tutors at the English Writing and Communication Center (EWCC)? \nThis semester\, the writing centre EWCC will collaborate with the UM library to provide quick consultation support. Starting from February 11th\, every Tuesday\, you can bring your questions and concerns and meet with our tutors in the library ! \nYou can find us in the AI Cabin\, on the Ground Floor of the Library\, every Tuesday from 1:30pm to 4pm. The drop-in service will offer fast and effective guidance for students who need help with: \n\nUnderstanding essay questions\nQuick check of drafts and structuring ideas\nReferencing\nCV formatting\nGeneral academic concerns\n\nEach session lasts up to 20 minutes and operates on a first-come\, first-served basis—no appointments required! Whether you’re in the early stages of brainstorming or making final touches to your work\, our team is ready to assist you. \nThe service will run until April 30th. Don’t miss out on this opportunity to refine your academic writing and improve your assignments. Simply drop by the AI Cabin and get the help you need! \n\nLocation: AI Cabin\, Library Ground Floor\nDates: February 11th – April 30th\nTime: Every Tuesday\, 1:30pm – 4:00 pm\nSessions: Up to 20 minutes per session\, first-come first-served\n\nFor further enquiries\, contact us at fah_elc_ells@um.edu.mo. \nWe are looking forward to seeing you at the drop-ins and at the library! \nBest wishes\, \nWriting and Communication Centre \nEnglish Language Centre \nFaculty of Arts and Humanities \nThe University of Macau \n親愛的同學們， \n新年好！新的學年，你有想實現的願望嗎？你探索過澳大圖書館，和預約過英語寫作中心的服務嗎？ \n人文學院英語寫作中心將和澳大圖書館合作，於2月11日起每個星期二\, 下午1:30 – 4:00在圖書館地面層的AI未來學習艙進行即時諮詢服務。屆時，中心導師將會對英文寫作、學習技巧等的相關學術疑慮進行快速有效的協助。每節諮詢持續二十分鐘左右，為同學提供快速理解作業要求、討論寫作想法、學術引用、調整簡歷格式等問題的幫助。諮詢服務先到先得，無需預約。歡迎同學們每週二下午一點半到四點間前來拜訪參觀！ \n\n地點：圖書館地面層 AI未來學習艙\n日期： 2月11日-4月30日\n具體時間：逢星期二下午\, 1:30 – 4:00\n諮詢時間：每人二十分鐘，先到先得，無需預約\n\n如有任何疑問，請通過fah_elc_ells@um.edu.mo 與我們聯繫。 \n我們期待在圖書館和你相見！ \n  \n澳門大學人文學院英語中心謹啟
URL:https://fah.um.edu.mo/event/elc-ewcc-library-drop-in-tuesday/
LOCATION:1/F\, University of Macau Library (E2) \, AI Cabin
CATEGORIES:English Language Centre
ATTACH;FMTTYPE=image/png:https://fah.um.edu.mo/wp-content/uploads/2025/02/1247135138.png
ORGANIZER;CN="ELC%20-%20English%20Writing%20and%20Communication%20Centre%20%28EWCC%29":MAILTO:ewcc@um.edu.mo
END:VEVENT
BEGIN:VEVENT
DTSTART;TZID=UTC:20250301T090000
DTEND;TZID=UTC:20250302T180000
DTSTAMP:20260425T213050
CREATED:20250226T094542Z
LAST-MODIFIED:20250226T094711Z
UID:1036211-1740819600-1740938400@fah.um.edu.mo
SUMMARY:“記憶之場的理論與實踐”學術工作坊
DESCRIPTION:緣起 \n“歷史在加速消失。” \n“記憶（研究）的興起是文字書寫的輝煌的葬禮！” \n隨著法國《記憶之場》全譯本被陸續譯介到中國，借鑒他山之石，展開關於中國“記憶之場”研究的時機業已成熟。記憶之場具有實在性、象徵性、功能性等特徵，以什麼標準、使用怎樣的方法展開澳門的記憶之場研究，是本次學術工作坊的目的所在。本次工作坊擬就三個方面進行深入討論： \n一曰從法國和歐洲歷史探討記憶研究的方法論問題。 \n二曰通過若干實例檢討目前記憶研究狀況。 \n三曰就如何展開澳門的記憶之場研究進行討論。 \n會議議程 \n 
URL:https://fah.um.edu.mo/event/%e8%a8%98%e6%86%b6%e4%b9%8b%e5%a0%b4%e7%9a%84%e7%90%86%e8%ab%96%e8%88%87%e5%af%a6%e8%b8%90%e5%ad%b8%e8%a1%93%e5%b7%a5%e4%bd%9c%e5%9d%8a/
LOCATION:E21-3118
CATEGORIES:Department of History
ATTACH;FMTTYPE=image/jpeg:https://fah.um.edu.mo/wp-content/uploads/2025/02/image-20250226152754.jpg
ORGANIZER;CN="Department%20of%20History":MAILTO:fah.history@um.edu.mo
END:VEVENT
END:VCALENDAR