BEGIN:VCALENDAR
VERSION:2.0
PRODID:-//Faculty of Arts and Humanities | University of Macau - ECPv5.15.0.1//NONSGML v1.0//EN
CALSCALE:GREGORIAN
METHOD:PUBLISH
X-WR-CALNAME:Faculty of Arts and Humanities | University of Macau
X-ORIGINAL-URL:https://fah.um.edu.mo
X-WR-CALDESC:Events for Faculty of Arts and Humanities | University of Macau
REFRESH-INTERVAL;VALUE=DURATION:PT1H
X-Robots-Tag:noindex
X-PUBLISHED-TTL:PT1H
BEGIN:VTIMEZONE
TZID:UTC
BEGIN:STANDARD
TZOFFSETFROM:+0000
TZOFFSETTO:+0000
TZNAME:UTC
DTSTART:20250101T000000
END:STANDARD
END:VTIMEZONE
BEGIN:VEVENT
DTSTART;VALUE=DATE:20250910
DTEND;VALUE=DATE:20251121
DTSTAMP:20260425T184106
CREATED:20250826T034411Z
LAST-MODIFIED:20250826T034411Z
UID:1155666-1757462400-1763683199@fah.um.edu.mo
SUMMARY:The 3rd Short Video Shooting Contest of Higher Education Institutions in China
DESCRIPTION:Please visit the Contest’s webpage at https://cpc.fah.um.edu.mo/the-3rd-short-video-shooting-contest-of-higher-education-institutions-in-china/ for details. \nThe application form can be download from the following link: https://www.wjx.top/vm/r3BsZnT.aspx#
URL:https://fah.um.edu.mo/event/the-3rd-short-video-shooting-contest-of-higher-education-institutions-in-china/
CATEGORIES:Chinese-Portuguese Bilingual Teaching and Training Centre,中葡雙語教學暨培訓中心
ATTACH;FMTTYPE=image/jpeg:https://fah.um.edu.mo/wp-content/uploads/2025/08/concurso-de-curtas-metragens-para-estudantes-das-instituicoes-de-ensino-superior-de-macau-6.jpg
END:VEVENT
BEGIN:VEVENT
DTSTART;VALUE=DATE:20250917
DTEND;VALUE=DATE:20251118
DTSTAMP:20260425T184106
CREATED:20250918T084347Z
LAST-MODIFIED:20250918T084347Z
UID:1174802-1758067200-1763423999@fah.um.edu.mo
SUMMARY:ELC-Fall 2025 i-Learner English for Universities Marathon Competition
DESCRIPTION:This semester\, the ELC is thrilled to present the i-Learner English Marathon Competition! Dive into as many lessons as you can by November 17\, 2025. \nTo join the contest\, students have to complete a minimum of 35 lessons with a score of 70% or above.  The ELC will select one champion who achieves the highest completion regardless of the level. The champion will be awarded a grand prize worth up to MOP 1\,000. Meanwhile\, the top students at each level who have completed the most will also be awarded amazing prizes for their outstanding efforts. \nThe ELC is also hosting a writing competition for UE 1-3 students. Students should complete the course required lessons (25 lessons for UE1/2\, 12 lessons for UE3)\, and submit the writing assignment for the last lesson. Students with the highest writing scores at their levels will be awarded. \nAll winners will receive a certificate from the ELC. \nAll students enrolled in ELC courses in 2025/26 are automatically registered as i-Learner users. Follow the steps below to explore new lessons: \n\nLog into https://um.i-learner.com.hk/ with your UM account information.\nLessons in both the “University English” and “English Marathon” sections are counted in the competition.\nChoose the topics at your current ELC levels.\nComplete as many lessons as you can with a score 70% or above to qualify!\n\n*Notes: \n\nScores will be valid only if you complete the i-Learner lessons at your current ELC course level\, e.g. students in EELC1011 should complete UE1 lessons\nUE1 lessons are open to EELC1011 students; UE2 lessons are open to EELC1012 students; UE3 lessons are open to EELC1013 students.\n\nFor inquiries\, contact us at fah_elc_ells@um.edu.mo / ewcc@um.edu.mo. \nBest regards\, \nEnglish Language Centre \n澳門大學英語中心（ELC）將在本學期繼續舉辦i-Learner英語馬拉松競賽。競賽截止日期為2025年11月17日。 \n同學們僅需要在截止日期前盡可能完成最多的課節 (至少完成35課節，並獲得70%或以上的分數，方被納入參賽考量成績)。在眾多級別中表現最佳的總冠軍將獲得價值澳門幣1\,000元的獎品。與此同時，在各自級別前三名的同學們均能獲得精美獎品。 \n另外英語中心也會繼續舉辦UE 1-3寫作比賽。同學們須完成課程要求的寫作練習節數（UE1/2需25課節，UE3需12課節），並提交最後一節課的寫作作品，，各自級別最高分數的同學將獲頒獎品。 \n所有得獎者將獲得英語中心頒發的優秀證書。 \n所有在2025/26學年註冊ELC課程的學生都自動註冊為i-Learner用戶。按照以下步驟探索新課程： \n\n使用您的澳門大學帳戶信息登錄https://um.i-learner.com.hk/\n“大學英語”和“英語馬拉松”部分的課程都計入比賽\n選擇與您當前ELC課程級別相符的主題\n完成盡可能多的課程，並且確保分數超過70%\n\n*注意事項： \n\n只有在您當前ELC課程級別完成的i-Learner課程分數才有效，例如EELC1011的學生應完成UE1課程\nUE1課程開放給EELC1011學生；UE2課程開放給EELC1012學生；UE3課程開放給EELC1013學生\n\n如有任何疑問，請通過fah_elc_ells@um.edu.mo / ewcc@um.edu.mo 與我們聯繫。 \n澳門大學人文學院英語中心謹啟
URL:https://fah.um.edu.mo/event/elc-fall-2025-i-learner-english-for-universities-marathon-competition/
CATEGORIES:English Language Centre
ATTACH;FMTTYPE=image/png:https://fah.um.edu.mo/wp-content/uploads/2025/09/fall-2025-i-learner-english-for-universities-marathon-competition.png
ORGANIZER;CN="ELC%20-%20English%20Writing%20and%20Communication%20Centre%20%28EWCC%29":MAILTO:ewcc@um.edu.mo
END:VEVENT
BEGIN:VEVENT
DTSTART;VALUE=DATE:20250919
DTEND;VALUE=DATE:20251130
DTSTAMP:20260425T184106
CREATED:20250822T092619Z
LAST-MODIFIED:20250825T045836Z
UID:1151985-1758240000-1764460799@fah.um.edu.mo
SUMMARY:The 1st Chinese-Portuguese Lyrics Translation Competition
DESCRIPTION:Please visit the Competition’s webpage at https://cpc.fah.um.edu.mo/zh-hant/pybzpgcfyds/ \nThe application form can be download from the following link：https://www.wjx.top/vm/tU3udy4.aspx#
URL:https://fah.um.edu.mo/event/the-1st-chinese-portuguese-lyrics-translation-competition/
CATEGORIES:Chinese-Portuguese Bilingual Teaching and Training Centre
ATTACH;FMTTYPE=image/png:https://fah.um.edu.mo/wp-content/uploads/2025/08/2.png
ORGANIZER;CN="Chinese-Portuguese%20Bilingual%20Teaching%20and%20Training%20Centre":MAILTO:BilingualCentre@um.edu.mo
END:VEVENT
BEGIN:VEVENT
DTSTART;VALUE=DATE:20250922
DTEND;VALUE=DATE:20251220
DTSTAMP:20260425T184106
CREATED:20250919T023238Z
LAST-MODIFIED:20251031T035457Z
UID:1172786-1758499200-1766188799@fah.um.edu.mo
SUMMARY:Voices\, Glances\, Memories: Commemoration of the Centenary of José Cardoso Pires
DESCRIPTION:José Cardoso Pires (1925–1998) is considered as an indispensable reference in 20th-century Portuguese literary history. His works offer profound analyzes of the intricate interplay between power\, identity\, and memory. Through a distinctive narrative style and acute social observation\, he chronicled Portugal’s social transformations and individual destinies during the latter half of the 20th century. This exhibition will explore Cardoso Pires’ literary heritage and spiritual world through three core dimensions—Voices\, Glances\, and Memories—offering a multi-faceted\, immersive experience. It examines how literature holds the weight of both individual and collective memory\, thereby fostering public engagement with and better understanding of his works. \nExhibition – Voices\, Glances\, Memories: Commemoration of the Centenary of José Cardoso Pires\nDate and Time: 22/09-19/12/2025\nVenue: Sky Garden\, 2/F\, UM Wu Yee Sun Library (E2) \nParticipate in the interactive games and have a chance to win a prize\nDate and Time: 22/09-19/11/2025\nVenue: Sky Garden\, 2/F\, UM Wu Yee Sun Library (E2)
URL:https://fah.um.edu.mo/event/voices-glances-memories-commemoration-of-the-centenary-of-jose-cardoso-pires/
LOCATION:Sky Garden\, 2/F\, UM Wu Yee Sun Library (E2)
CATEGORIES:Chinese-Portuguese Bilingual Teaching and Training Centre
ATTACH;FMTTYPE=image/jpeg:https://fah.um.edu.mo/wp-content/uploads/2025/09/umcpc-poster-251020-scaled.jpg
ORGANIZER;CN="Chinese-Portuguese%20Bilingual%20Teaching%20and%20Training%20Centre":MAILTO:BilingualCentre@um.edu.mo
END:VEVENT
BEGIN:VEVENT
DTSTART;TZID=UTC:20250929T100000
DTEND;TZID=UTC:20260122T190000
DTSTAMP:20260425T184106
CREATED:20250919T081201Z
LAST-MODIFIED:20250930T111303Z
UID:1175489-1759140000-1769108400@fah.um.edu.mo
SUMMARY:“A Tree of Knowledge: Creation Based on Greatness” —— The 2025 Staff Art Exhibition of Department of Arts and Design\, Faculty of Arts and Humanities\, University of Macau - 「知識樹：基於偉大的創造」—— 澳門大學人文學院藝術與設計系教師作品展
DESCRIPTION:
URL:https://fah.um.edu.mo/event/a-tree-of-knowledge-creation-based-on-greatness-%e3%80%8c%e7%9f%a5%e8%ad%98%e6%a8%b9%ef%bc%9a%e5%9f%ba%e6%96%bc%e5%81%89%e5%a4%a7%e7%9a%84%e5%89%b5%e9%80%a0%e3%80%8d/
LOCATION:Museum of Art\, University of Macau Wu Yee Sun Library (E2)1F\, Museum of Art\, University of Macau Wu Yee Sun Library (E2)1F
CATEGORIES:Department of Arts and Design
ATTACH;FMTTYPE=image/jpeg:https://fah.um.edu.mo/wp-content/uploads/2025/09/20250930171447-3-12-copy-scaled.jpg
ORGANIZER;CN="Department%20of%20Arts%20and%20Design":MAILTO:fah.dad@um.edu.mo
END:VEVENT
BEGIN:VEVENT
DTSTART;TZID=UTC:20251008T100000
DTEND;TZID=UTC:20251008T113000
DTSTAMP:20260425T184106
CREATED:20250929T072741Z
LAST-MODIFIED:20250929T072741Z
UID:1180825-1759917600-1759923000@fah.um.edu.mo
SUMMARY:Department of Japanese: The Nature and Climate\, and the Natural Disasters of the Hokuriku Region\, Central Japan: Heavy Snow\, Earthquakes\, Tsunamis\, and Volcanic Eruption
DESCRIPTION:
URL:https://fah.um.edu.mo/event/department-of-japanese-the-nature-and-climate-and-the-natural-disasters-of-the-hokuriku-region-central-japan-heavy-snow-earthquakes-tsunamis-and-volcanic-eruption/
LOCATION:E22-G013
CATEGORIES:Centre for Japanese Studies
ATTACH;FMTTYPE=image/jpeg:https://fah.um.edu.mo/wp-content/uploads/2025/09/guest-lecture-8-oct2025-prof-shinji-tsukawaki-scaled.jpg
END:VEVENT
BEGIN:VEVENT
DTSTART;TZID=UTC:20251008T143000
DTEND;TZID=UTC:20251008T160000
DTSTAMP:20260425T184106
CREATED:20250929T080902Z
LAST-MODIFIED:20250929T080902Z
UID:1181059-1759933800-1759939200@fah.um.edu.mo
SUMMARY:ELC- ECAC: “Discover a New Presentation Style: Pecha Kucha” workshop
DESCRIPTION:Pecha Kucha is a dynamic presentation format that emphasizes imagery over text\, challenging speakers to convey their message through 20 slides shown for just 20 seconds each. This concise\, visually driven style offers an excellent opportunity to sharpen public speaking skills and creative expression. \nJoin our upcoming workshop to explore the techniques and structure behind Pecha Kucha. Whether you’re new to the format or preparing for the Pecha Kucha Presentation Competition on 22 October 2025\, this session will equip you with the tools you need to craft compelling slides and captivate your audience. \nBring your friends\, master a cutting-edge presentation style\, and earn Smart Points along the way. \n================================ \nECAC Pecha Kucha Workshop \n\nDate: 8 October 2025\nTime :14:30 – 16:00\nVenue: E3-3033\n\n​​​​​​​Scan the QR code on the poster to register now! \nShould you have any inquiries\, please feel free to contact us at ECAC_ELC@um.edu.mo \nBest Regards\,\nEnglish Co-Curricular Activities Committee (ECAC)\nEnglish Language Centre\nFaculty of Arts and Humanities
URL:https://fah.um.edu.mo/event/elc-ecac-discover-a-new-presentation-style-pecha-kucha-workshop/
LOCATION:E3-3033
CATEGORIES:English Language Centre
ATTACH;FMTTYPE=image/jpeg:https://fah.um.edu.mo/wp-content/uploads/2025/09/pecha-kucha-updated-poster-for-8-oct.jpg
ORGANIZER;CN="English%20Co-Curricular%20Activities%20Committee%20%28ECAC%29":MAILTO:ECAC_ELC@um.edu.mo
END:VEVENT
BEGIN:VEVENT
DTSTART;TZID=UTC:20251008T173000
DTEND;TZID=UTC:20251008T190000
DTSTAMP:20260425T184106
CREATED:20251003T030408Z
LAST-MODIFIED:20251003T030408Z
UID:1185594-1759944600-1759950000@fah.um.edu.mo
SUMMARY:FAH/DPHIL Lecture Series – "Comparative Philosophy Without Method" by Prof. Steven Burik\, Singapore Management University\, Singapore
DESCRIPTION:Microsoft Teams: https://go.um.edu.mo/7mnk1eav \n  \nAbstract \nI argue that comparative philosophy cannot have one method or even one methodology. I take my cue from two ideas. The first is tied to the famous story of G. E. Moore pointing to the wall of books behind him and saying philosophy was “what these are about.” Moore referred to an entire history of thinking with its own categories\, demands\, and interests\, but more importantly to the impossibility to narrow down philosophy to a particular method or to one way of doing philosophy. My second cue has to do with the definitions of philosophical ‘method’ and ‘methodology.’ Using the different definitions of ‘method’ and ‘methodology’\, I claim firstly that comparative philosophy cannot by its very nature have one method\, because with ever finer comparisons and ever less generalisations\, comparative philosophy is increasingly becoming more site-specific so that it will become impossible to assign any single meaningful identity to it. I claim that assigning such a single identity is something that comparative philosophy should avoid. Secondly\, I claim that we do not need a specific methodology for comparative philosophy. I conclude by saying that these requirements should stay as minimal as possible\, and that this is the only way comparative philosophy can stay true to its intended openness to diverse ways of thought. \n  \nBio \nSteven Burik is Associate Professor in Philosophy at Singapore Management University. He is also the Associate Dean for Student Matters and Alumni Affairs in the School of Social Sciences\, and currently holds a Lee Kong Chian Research Fellowship. He holds a PhD in comparative philosophy from the National University of Singapore. His research interests are mainly in comparative philosophy\, continental philosophy (Heidegger\, Derrida)\, Chinese philosophy (Daoism)\, and Critical Thinking. He is the author of The End of Comparative Philosophy and the Task of Comparative Thinking (SUNY Press)\, and editor of Comparative Philosophy and Method: Contemporary Practices and Future Possibilities\, (co-edited with Ralph Weber and Robert Smid\, Bloomsbury)\, which brings together leading scholars thinking about the methodology in comparative philosophy\, and has co-authored a textbook in Critical Thinking. Aside from these he has published numerous articles in various journals and books\, including Philosophy East and West\, Dao: a Journal of Comparative Philosophy\, and Comparative and Continental Philosophy.
URL:https://fah.um.edu.mo/event/fah-dphil-lecture-series-comparative-philosophy-without-method-by-prof-steven-burik-singapore-management-university-singapore/
LOCATION:E21A-3118
CATEGORIES:Department of Philosophy and Religious Studies
ATTACH;FMTTYPE=image/jpeg:https://fah.um.edu.mo/wp-content/uploads/2025/10/poster-steven-burik.jpg
ORGANIZER;CN="Department%20of%20Philosophy%20and%20Religious%20Studies":MAILTO:maggiewong@um.edu.mo
END:VEVENT
BEGIN:VEVENT
DTSTART;TZID=UTC:20251008T183000
DTEND;TZID=UTC:20251008T203000
DTSTAMP:20260425T184106
CREATED:20251006T045014Z
LAST-MODIFIED:20251006T060530Z
UID:1187336-1759948200-1759955400@fah.um.edu.mo
SUMMARY:Art Through Time Lecture Series (I) Art Through Time - 穿越時間的藝術系列講座（一）穿越時間的藝術
DESCRIPTION:
URL:https://fah.um.edu.mo/event/art-through-time-%e7%a9%bf%e8%b6%8a%e6%99%82%e9%96%93%e7%9a%84%e8%97%9d%e8%a1%93/
LOCATION:Room G011\, Cultural Building\, Lecture Hall (E34)
CATEGORIES:Department of Arts and Design
ATTACH;FMTTYPE=image/png:https://fah.um.edu.mo/wp-content/uploads/2025/10/33612f98936c817a39d156283f10db4f.png
ORGANIZER;CN="Department%20of%20Arts%20and%20Design":MAILTO:fah.dad@um.edu.mo
END:VEVENT
BEGIN:VEVENT
DTSTART;TZID=UTC:20251008T193000
DTEND;TZID=UTC:20251008T210000
DTSTAMP:20260425T184106
CREATED:20250917T013750Z
LAST-MODIFIED:20250922T024746Z
UID:1171493-1759951800-1759957200@fah.um.edu.mo
SUMMARY:人文學院中國語言文學系嘉賓講座: “瀕危方言與方言景觀” – 丘學強教授 FAH-DCLL Guest Lecture : "Endangered Dialects and Dialect Landscapes" by Prof. Qiu Xueqiang
DESCRIPTION:
URL:https://fah.um.edu.mo/event/lecture-by-prof-qiu-xueqiang-2025-09/
LOCATION:E21-3118
CATEGORIES:Department of Chinese language and Literature
ATTACH;FMTTYPE=image/png:https://fah.um.edu.mo/wp-content/uploads/2025/09/poster-prof-qiu-xueqiang-1-1.png
ORGANIZER;CN="Department%20of%20Chinese%20Language%20and%20Literature":MAILTO:fah.chinese@um.edu.mo
END:VEVENT
END:VCALENDAR