BEGIN:VCALENDAR
VERSION:2.0
PRODID:-//Faculty of Arts and Humanities | University of Macau - ECPv5.15.0.1//NONSGML v1.0//EN
CALSCALE:GREGORIAN
METHOD:PUBLISH
X-WR-CALNAME:Faculty of Arts and Humanities | University of Macau
X-ORIGINAL-URL:https://fah.um.edu.mo/?lang=zh-hant
X-WR-CALDESC:Events for Faculty of Arts and Humanities | University of Macau
REFRESH-INTERVAL;VALUE=DURATION:PT1H
X-Robots-Tag:noindex
X-PUBLISHED-TTL:PT1H
BEGIN:VTIMEZONE
TZID:UTC
BEGIN:STANDARD
TZOFFSETFROM:+0000
TZOFFSETTO:+0000
TZNAME:UTC
DTSTART:20260101T000000
END:STANDARD
END:VTIMEZONE
BEGIN:VEVENT
DTSTART;VALUE=DATE:20260311
DTEND;VALUE=DATE:20260506
DTSTAMP:20260425T035154
CREATED:20260311T040348Z
LAST-MODIFIED:20260331T102411Z
UID:1245187-1773187200-1778025599@fah.um.edu.mo
SUMMARY:人文學院哲學與宗教學系： The Mario Echano Prize for the Best Undergraduate Philosophy Essay
DESCRIPTION:The Mario Echano Prize for the Best Undergraduate Philosophy Essay is awarded for excellence in philosophy. Students enrolled in the Department of Philosophy and Religious Studies undergraduate courses are eligible to enter an essay for the annual award. \nStudents are invited to submit an academic essay written as an assignment in one of the Department of Philosophy and Religious Studies’ undergraduate courses this academic year (AY2025/2026). Essays of any length are acceptable. The organisers reserve the right not to award the prize if essays are not of sufficiently high standard. \nPlease submit essays by e-mail with the subject line ‘Submission for the Mario Echano Prize’ to Maggie Wong at MaggieWong@um.edu.mo. Attach your essay to the message as a Microsoft Word document (other formats will not be accepted). Please give your name\, student number\, and the name of the course for which you wrote the essay\, on the first page of the essay. The deadline for submission is Friday\, 5th May 2026. \nWe look forward to your submissions.
URL:https://fah.um.edu.mo/event/fah-dphil-the-mario-echano-prize-for-the-best-undergraduate-philosophy-essay-5/?lang=zh-hant
CATEGORIES:哲學及宗教學系
ATTACH;FMTTYPE=image/jpeg:https://fah.um.edu.mo/wp-content/uploads/2026/03/mario-echano-prize-for-the-best-undegraduate-philosophy-essay.jpg
ORGANIZER;CN="Department%20of%20Philosophy%20and%20Religious%20Studies":MAILTO:maggiewong@um.edu.mo
END:VEVENT
BEGIN:VEVENT
DTSTART;TZID=UTC:20260325T173000
DTEND;TZID=UTC:20260325T190000
DTSTAMP:20260425T035155
CREATED:20260319T091318Z
LAST-MODIFIED:20260320T091402Z
UID:1243924-1774459800-1774465200@fah.um.edu.mo
SUMMARY:人文學院哲學與宗教學系系列講座："Recalcitrance\, Rationality\, and the Nature of Emotion" ，Adam Bradley教授，嶺南大學，香港
DESCRIPTION:Microsoft Teams: https://go.um.edu.mo/7mnk1eav \n  \n摘要 \nRecalcitrant emotions—emotions that persist despite beliefs that rationally conflict with them—are a testing ground for theories of emotion. Cognitivists hold that emotions are or involve beliefs\, which straightforwardly explains how they can rationally conflict with other beliefs. But it is dubious that a subject who fears a dog they know to be harmless literally holds contradictory beliefs about its danger. Perceptualists hold that emotions are perception-like states\, which avoids this problem but introduces another: perceptual states do not seem to rationally conflict with beliefs at all. Thus\, such views cannot explain why recalcitrant emotions involve genuine irrationality. There appears to be no stable middle ground: any attitude short of belief seems to generate too little rational conflict\, while belief generates too much. Motivated by this impasse\, Alex Grzankowski develops what I call a formal account of recalcitrance\, which appeals to a structural rational principle rather than any substantive theory of emotion. I argue that formal accounts\, however appealing\, fail to address what I call the Grounding Question: what is it about emotional states that makes them apt for rational conflict with beliefs in the first place? Drawing on recent work on reasons and rationality\, I argue that emotions must be reasons-responsive—the processes governing their formation must be sensitive to the subject’s reasons. I then develop an empirically grounded account of emotions as evaluative states integrating both lower-level perceptual and higher-level cognitive inputs. On this model\, the balance between these inputs varies across emotional episodes\, explaining why some emotions are more susceptible to recalcitrance than others\, and why recalcitrant emotions resist some contrary judgments but not others. \n  \n個人簡歷 \nAdam Bradley is an Assistant Professor of Philosophy and Fellow of the Hong Kong Catastrophic Risk Centre at Lingnan University\, Hong Kong. He works primarily the philosophy of mind\, psychiatry\, and artificial intelligence. Topics he has written on include the nature of bodily pain\, rationality and delusional belief\, and the potential for welfare in AI systems. He received his Ph.D. in Philosophy from the University of California\, Berkeley in 2019.
URL:https://fah.um.edu.mo/event/fah-dphil-lecture-series-recalcitrance-rationality-and-the-nature-of-emotion-by-prof-adam-bradley-lingnan-university-hong-kong/?lang=zh-hant
LOCATION:E21A-3118
CATEGORIES:哲學及宗教學系
ATTACH;FMTTYPE=image/jpeg:https://fah.um.edu.mo/wp-content/uploads/2026/03/poster-adam-bradley.jpg
ORGANIZER;CN="Department%20of%20Philosophy%20and%20Religious%20Studies":MAILTO:maggiewong@um.edu.mo
END:VEVENT
BEGIN:VEVENT
DTSTART;TZID=UTC:20260327T173000
DTEND;TZID=UTC:20260327T193000
DTSTAMP:20260425T035155
CREATED:20260310T104503Z
LAST-MODIFIED:20260320T090915Z
UID:1243839-1774632600-1774639800@fah.um.edu.mo
SUMMARY:人文學院哲學與宗教學系系列講座："Why tie your head to a tree\, when no one is looking?" ，Norwegian Artist Bjørn Venø先生
DESCRIPTION:
URL:https://fah.um.edu.mo/event/fah-dphil-lecture-series-why-tie-your-head-to-a-tree-when-no-one-is-looking-by-mr-norwegian-artist-bjorn-veno/?lang=zh-hant
LOCATION:E21A-G049
CATEGORIES:哲學及宗教學系
ATTACH;FMTTYPE=image/jpeg:https://fah.um.edu.mo/wp-content/uploads/2026/03/bv-macau-poster.jpg
ORGANIZER;CN="Department%20of%20Philosophy%20and%20Religious%20Studies":MAILTO:maggiewong@um.edu.mo
END:VEVENT
END:VCALENDAR