BEGIN:VCALENDAR
VERSION:2.0
PRODID:-//Faculty of Arts and Humanities | University of Macau - ECPv5.15.0.1//NONSGML v1.0//EN
CALSCALE:GREGORIAN
METHOD:PUBLISH
X-WR-CALNAME:Faculty of Arts and Humanities | University of Macau
X-ORIGINAL-URL:https://fah.um.edu.mo
X-WR-CALDESC:Events for Faculty of Arts and Humanities | University of Macau
REFRESH-INTERVAL;VALUE=DURATION:PT1H
X-Robots-Tag:noindex
X-PUBLISHED-TTL:PT1H
BEGIN:VTIMEZONE
TZID:UTC
BEGIN:STANDARD
TZOFFSETFROM:+0000
TZOFFSETTO:+0000
TZNAME:UTC
DTSTART:20260101T000000
END:STANDARD
END:VTIMEZONE
BEGIN:VEVENT
DTSTART;VALUE=DATE:20260311
DTEND;VALUE=DATE:20260514
DTSTAMP:20260426T001839
CREATED:20260210T041904Z
LAST-MODIFIED:20260210T041904Z
UID:1235631-1773187200-1778716799@fah.um.edu.mo
SUMMARY:Short Course on 21st Century’s Languages and Teaching Portuguese as a Foreign Language (PFL)
DESCRIPTION:
URL:https://fah.um.edu.mo/event/short-course-on-21st-centurys-languages-and-teaching-portuguese-as-a-foreign-language-pfl/
LOCATION:University of Macau
CATEGORIES:Chinese-Portuguese Bilingual Teaching and Training Centre
ATTACH;FMTTYPE=image/png:https://fah.um.edu.mo/wp-content/uploads/2026/02/curso-de-curta-duracao-linguas-e-ensino-do-portugues-ple-no-seculo-xxi.png
ORGANIZER;CN="Chinese-Portuguese%20Bilingual%20Teaching%20and%20Training%20Centre":MAILTO:BilingualCentre@um.edu.mo
END:VEVENT
BEGIN:VEVENT
DTSTART;TZID=UTC:20260316T113000
DTEND;TZID=UTC:20260316T130000
DTSTAMP:20260426T001839
CREATED:20260227T065319Z
LAST-MODIFIED:20260227T065319Z
UID:1238070-1773660600-1773666000@fah.um.edu.mo
SUMMARY:An Azorean Writer in Macau: Cultural and Identity Crossings in the Work of Rodrigo Leal de Carvalho
DESCRIPTION:Rodrigo Leal de Carvalho (1932-2026)\, judge and writer\, lived in Macau for 30 years. He published eight novels depicting Macanese society and the impact of the war. We will therefore discuss this writer’s contribution to Portuguese-Chinese literary and cultural exchange\, but also to the dialogue between all the cultural and identity diversity that characterises the territory.
URL:https://fah.um.edu.mo/event/an-azorean-writer-in-macau-cultural-and-identity-crossings-in-the-work-of-rodrigo-leal-de-carvalho/
LOCATION:E21-3118
CATEGORIES:Chinese-Portuguese Bilingual Teaching and Training Centre,中葡雙語教學暨培訓中心
ATTACH;FMTTYPE=image/png:https://fah.um.edu.mo/wp-content/uploads/2026/02/rodrigo-leal-de-carvalho.png
END:VEVENT
BEGIN:VEVENT
DTSTART;TZID=UTC:20260319T113000
DTEND;TZID=UTC:20260319T130000
DTSTAMP:20260426T001839
CREATED:20260226T091150Z
LAST-MODIFIED:20260226T091351Z
UID:1237206-1773919800-1773925200@fah.um.edu.mo
SUMMARY:Relations between China and Portuguese-speaking Countries
DESCRIPTION:
URL:https://fah.um.edu.mo/event/relations-between-china-and-portuguese-speaking-countries/
LOCATION:E21-G035
CATEGORIES:Chinese-Portuguese Bilingual Teaching and Training Centre
ATTACH;FMTTYPE=image/png:https://fah.um.edu.mo/wp-content/uploads/2026/02/unnamed-file.png
ORGANIZER;CN="Chinese-Portuguese%20Bilingual%20Teaching%20and%20Training%20Centre":MAILTO:BilingualCentre@um.edu.mo
END:VEVENT
END:VCALENDAR