BEGIN:VCALENDAR
VERSION:2.0
PRODID:-//Faculty of Arts and Humanities | University of Macau - ECPv5.15.0.1//NONSGML v1.0//EN
CALSCALE:GREGORIAN
METHOD:PUBLISH
X-WR-CALNAME:Faculty of Arts and Humanities | University of Macau
X-ORIGINAL-URL:https://fah.um.edu.mo
X-WR-CALDESC:Events for Faculty of Arts and Humanities | University of Macau
REFRESH-INTERVAL;VALUE=DURATION:PT1H
X-Robots-Tag:noindex
X-PUBLISHED-TTL:PT1H
BEGIN:VTIMEZONE
TZID:UTC
BEGIN:STANDARD
TZOFFSETFROM:+0000
TZOFFSETTO:+0000
TZNAME:UTC
DTSTART:20260101T000000
END:STANDARD
END:VTIMEZONE
BEGIN:VEVENT
DTSTART;TZID=UTC:20260112T143000
DTEND;TZID=UTC:20260427T173000
DTSTAMP:20260424T181402
CREATED:20260129T044253Z
LAST-MODIFIED:20260209T032306Z
UID:1233667-1768228200-1777311000@fah.um.edu.mo
SUMMARY:Great Moments of Humanities and Science - 人文與科學的偉大時刻
DESCRIPTION:
URL:https://fah.um.edu.mo/event/great-moments-of-humanities-and-science-%e4%ba%ba%e6%96%87%e8%88%87%e7%a7%91%e5%ad%b8%e7%9a%84%e5%81%89%e5%a4%a7%e6%99%82%e5%88%bb/
LOCATION:Room G011\, Cultural Building\, Lecture Hall (E34)
CATEGORIES:Department of Arts and Design
ATTACH;FMTTYPE=image/jpeg:https://fah.um.edu.mo/wp-content/uploads/2026/01/20260209101631-40-243-scaled.jpg
ORGANIZER;CN="Department%20of%20Arts%20and%20Design":MAILTO:fah.dad@um.edu.mo
END:VEVENT
BEGIN:VEVENT
DTSTART;TZID=UTC:20260420T090000
DTEND;TZID=UTC:20260430T180000
DTSTAMP:20260424T181403
CREATED:20260416T095836Z
LAST-MODIFIED:20260416T095836Z
UID:1247506-1776675600-1777572000@fah.um.edu.mo
SUMMARY:Celebrating the 45th Anniversary of the University of Macau: FAH/DAD: “In Sync— 45 Hz” Overture Exhibition
DESCRIPTION:Event Information\n\n\n\n\n\n\n\nEvent Name\n:\nCelebrating the 45th Anniversary of the University of Macau: FAH/DAD: “In Sync— 45 Hz” Overture Exhibition\n\n\nCategories\n:\nActivity\, Student Activity\n\n\nOrganizer\n:\nDepartment of Arts and Design (DAD)\, FAH\n\n\nDate\n:\n20 April to 30 April 2026\n\n\nTime\n:\n9:00 – 18:00\n\n\nVenue\n:\nExhibition Hall\, University of Macau Library (E2-G007)\n\n\nTarget Audience\n:\nAll are welcome\n\n\n\n  \nContact Person for Details\n\n\n\nName\n:\nDepartment of Arts and Design (DAD)\, FAH\n\n\nTel. No\n:\n88229956\n\n\nFax\n:\nN/A\n\n\nEmail\n:\nsokfongho@um.edu.mo
URL:https://fah.um.edu.mo/event/celebrating-the-45th-anniversary-of-the-university-of-macau-fah-dad-in-sync-45-hz-overture-exhibition/
LOCATION:Exhibition Hall\, University of Macau Library (E2-G007)
CATEGORIES:Department of Arts and Design
ATTACH;FMTTYPE=image/jpeg:https://fah.um.edu.mo/wp-content/uploads/2026/04/20260416175357-scaled.jpg
END:VEVENT
BEGIN:VEVENT
DTSTART;TZID=UTC:20260428T100000
DTEND;TZID=UTC:20260428T130000
DTSTAMP:20260424T181403
CREATED:20260423T072523Z
LAST-MODIFIED:20260423T072523Z
UID:1248675-1777370400-1777381200@fah.um.edu.mo
SUMMARY:FAH-DAD : Art and academic lecture series No.48: Suzhou Prints and Chinoiserie: A Cross- Cultural Journey
DESCRIPTION:Event Information\n\n\n\n\n\n\n\nEvent Name\n:\nCelebrating the 45th Anniversary of the University of Macau: FAH-DAD : Art and academic lecture series No.48: Suzhou Prints and Chinoiserie: A Cross- Cultural Journey\n\n\nCategories\n:\nSeminar / Lecture\n\n\nOrganizer\n:\nFAH-Department of Arts and Design (DAD)\n\n\nSpeaker\n:\nProf. LI Xiaofei\n\n\nDate\n:\n28 April 2026\n\n\nTime\n:\n10:00 -13:00\n\n\nVenue\n:\nRoom G007\, E32 (Faculty of Law)\n\n\nTarget Audience\n:\nAll are welcome\n\n\nLanguage\n:\nMandarin\n\n\n\n  \nContact Person for Details\n\n\n\nName\n:\nDepartment of Arts and Design (DAD)\, FAH\n\n\nTel. No\n:\n88229956\n\n\nFax\n:\nN/A\n\n\nEmail\n:\nsokfongho@um.edu.mo
URL:https://fah.um.edu.mo/event/fah-dad-art-and-academic-lecture-series-no-48-suzhou-prints-and-chinoiserie-a-cross-cultural-journey/
LOCATION:Room G007\, E32 (Faculty of Law)
CATEGORIES:Department of Arts and Design
ATTACH;FMTTYPE=image/png:https://fah.um.edu.mo/wp-content/uploads/2026/04/website.png
END:VEVENT
BEGIN:VEVENT
DTSTART;TZID=UTC:20260428T100000
DTEND;TZID=UTC:20260504T170000
DTSTAMP:20260424T181403
CREATED:20260423T075344Z
LAST-MODIFIED:20260423T083450Z
UID:1248953-1777370400-1777914000@fah.um.edu.mo
SUMMARY:FAH/DAD Exhibition : Whispers of the Steppe: Inner Mongolia’s Architectural Wonders in Macao
DESCRIPTION:Event Information\n\n\n\n\n\n\n\nEvent Name\n:\nFAH/DAD Exhibition : Whispers of the Steppe: Inner Mongolia’s Architectural Wonders in Macao\n\n\nCategories\n:\nSeminar / Lecture\, Activity\, Student Activity\n\n\nOrganizer\n:\nInner Mongolia University of Technology\,University of Macau\n\n\nDate\n:\n27 Apr (Mon) – 4 May (Mon) 2026\, Monday to Friday\n\n\nTime\n:\n10:00 ~ 17:00\n\n\nVenue\n:\nW32-G043\, University of Macau\n\n\nContent\n:\nOpening Ceremoy: 28/4/2026 10:00am\nVenue: W32-G043\n\n\nTarget Audience\n:\nAll are welcome\n\n\n\n  \nContact Person for Details\n\n\n\nName\n:\nDepartment of Arts and Design (DAD) of Faculty of Arts and Humanities\n\n\nTel. No\n:\n8866 9113\n\n\nFax\n:\nN/A\n\n\nEmail\n:\naoieongutong@um.edu.mo
URL:https://fah.um.edu.mo/event/fah-dad-exhibition-whispers-of-the-steppe-inner-mongolias-architectural-wonders-in-macao/
CATEGORIES:Department of Arts and Design
ATTACH;FMTTYPE=image/png:https://fah.um.edu.mo/wp-content/uploads/2026/04/640-1.png
END:VEVENT
BEGIN:VEVENT
DTSTART;TZID=UTC:20260430T090000
DTEND;TZID=UTC:20260507T190000
DTSTAMP:20260424T181403
CREATED:20260423T072103Z
LAST-MODIFIED:20260423T072103Z
UID:1248606-1777539600-1778180400@fah.um.edu.mo
SUMMARY:FAH/DAD Exhibition: Doctor of Design in Visual Communication Design — Student Presentations and Public Seminar on Color Theory
DESCRIPTION:Event Information\n\n\n\n\n\n\n\nEvent Name\n:\nFAH/DAD Exhibition: Doctor of Design in Visual Communication Design — Student Presentations and Public Seminar on Color Theory\n\n\nCategories\n:\nActivity\, Student Activity\n\n\nOrganizer\n:\nDepartment of Arts and Design (DAD)\, FAH\n\n\nDate\n:\n30 April 2026\n\n\nTime\n:\n09:00 ~ 19:00\n\n\nVenue\n:\nLobby\, Cultural Building (E34)\n\n\nContent\n:\nOpening Ceremoy: 30/4/2026 10:00am\nVenue: Lobby\, Cultural Building (E34)\n\n\nTarget Audience\n:\nAll are welcome\n\n\nLanguage\n:\nMandarin\n\n\n\n  \nContact Person for Details\n\n\n\nName\n:\nDepartment of Arts and Design (DAD)\, FAH\n\n\nTel. No\n:\n88229956\n\n\nFax\n:\nN/A\n\n\nEmail\n:\nsokfongho@um.edu.mo
URL:https://fah.um.edu.mo/event/fah-dad-exhibition-doctor-of-design-in-visual-communication-design-student-presentations-and-public-seminar-on-color-theory/
CATEGORIES:Department of Arts and Design
ATTACH;FMTTYPE=image/jpeg:https://fah.um.edu.mo/wp-content/uploads/2026/04/1.jpg
END:VEVENT
END:VCALENDAR