BEGIN:VCALENDAR
VERSION:2.0
PRODID:-//Faculty of Arts and Humanities | University of Macau - ECPv5.15.0.1//NONSGML v1.0//EN
CALSCALE:GREGORIAN
METHOD:PUBLISH
X-WR-CALNAME:Faculty of Arts and Humanities | University of Macau
X-ORIGINAL-URL:https://fah.um.edu.mo
X-WR-CALDESC:Events for Faculty of Arts and Humanities | University of Macau
REFRESH-INTERVAL;VALUE=DURATION:PT1H
X-Robots-Tag:noindex
X-PUBLISHED-TTL:PT1H
BEGIN:VTIMEZONE
TZID:UTC
BEGIN:STANDARD
TZOFFSETFROM:+0000
TZOFFSETTO:+0000
TZNAME:UTC
DTSTART:20260101T000000
END:STANDARD
END:VTIMEZONE
BEGIN:VEVENT
DTSTART;TZID=UTC:20260121T080000
DTEND;TZID=UTC:20260415T170000
DTSTAMP:20260426T112922
CREATED:20260113T091724Z
LAST-MODIFIED:20260113T091724Z
UID:1228857-1768982400-1776272400@fah.um.edu.mo
SUMMARY:Coffee-Tea with Professors
DESCRIPTION:
URL:https://fah.um.edu.mo/event/coffee-tea-with-professors-7/
LOCATION:E21-2001
CATEGORIES:Department of History
ATTACH;FMTTYPE=image/png:https://fah.um.edu.mo/wp-content/uploads/2026/01/coffee-tea-poster-2026.png
ORGANIZER;CN="Department%20of%20History":MAILTO:fah.history@um.edu.mo
END:VEVENT
BEGIN:VEVENT
DTSTART;TZID=UTC:20260320T080000
DTEND;TZID=UTC:20260321T170000
DTSTAMP:20260426T112922
CREATED:20260317T024616Z
LAST-MODIFIED:20260317T034646Z
UID:1243018-1773993600-1774112400@fah.um.edu.mo
SUMMARY:International Academic Symposium: Global History from Macau
DESCRIPTION:作為東西方交流的重要樞紐，澳門在全球化進程中佔有獨特的地位。研究澳門與世界各國、各地區在商業貿易、文化藝術、宗教信仰以及人員等方面關係，不僅可以深化對中西文明交流互鑒的理論和歷史的理解，還有助於推進以澳門為觀察點的全球在地化的歷史研究，從而在區域國別研究和全球史研究之間搭建可以互通的學術媒介。為此，澳門大學歷史系圍繞人的移動、物的移動和知識移動舉辦「從澳門出發的全球史」學術會議。 \n議題方向 \n\n帝國的治理邏輯；\n商業貿易、人口流動與近代早期的全球化：澳門與其他地區的比較；\n澳門歷史上的多元文化交融及澳門在全球歷史進程中的地位；\n澳門與周邊地區的歷史互動及其當代影響；\n區域國別研究方法在澳門研究中的應用；\n文明交流互鑒視角下澳門文化遺產的保護與傳承；\n其他與區域國別研究、全球史和記憶研究相關的理論與歷史議題。\n\nConference programme
URL:https://fah.um.edu.mo/event/international-academic-symposium-global-history-from-macau/
LOCATION:E34-G011\, E34-G021\, E21-G049\, E21-3118
CATEGORIES:Department of History
ATTACH;FMTTYPE=image/png:https://fah.um.edu.mo/wp-content/uploads/2026/03/image-20260316144718-201-1847.png
ORGANIZER;CN="Department%20of%20History":MAILTO:fah.history@um.edu.mo
END:VEVENT
END:VCALENDAR