BEGIN:VCALENDAR
VERSION:2.0
PRODID:-//Faculty of Arts and Humanities | University of Macau - ECPv5.15.0.1//NONSGML v1.0//EN
CALSCALE:GREGORIAN
METHOD:PUBLISH
X-WR-CALNAME:Faculty of Arts and Humanities | University of Macau
X-ORIGINAL-URL:https://fah.um.edu.mo
X-WR-CALDESC:Events for Faculty of Arts and Humanities | University of Macau
REFRESH-INTERVAL;VALUE=DURATION:PT1H
X-Robots-Tag:noindex
X-PUBLISHED-TTL:PT1H
BEGIN:VTIMEZONE
TZID:Asia/Macau
BEGIN:STANDARD
TZOFFSETFROM:+0800
TZOFFSETTO:+0800
TZNAME:CST
DTSTART:20190101T000000
END:STANDARD
END:VTIMEZONE
BEGIN:VEVENT
DTSTART;TZID=Asia/Macau:20191003T160000
DTEND;TZID=Asia/Macau:20191003T160000
DTSTAMP:20260425T224448
CREATED:20201030T092816Z
LAST-MODIFIED:20201030T092816Z
UID:7896-1570118400-1570118400@fah.um.edu.mo
SUMMARY:FAH/PHIL Philosophy and Religious Studies Lecture Series – ‘“The Unity of a Spiritual Life”: Husserl on Cultural Phenomenology’ by Prof. Dermot Moran\, Boston College\, USA
DESCRIPTION:
URL:https://fah.um.edu.mo/event/fah-phil-philosophy-and-religious-studies-lecture-series-the-unity-of-a-spiritual-life-husserl-on-cultural-phenomenology-by-prof-dermot-moran-boston-co/
LOCATION:E21-3118
CATEGORIES:Department of Philosophy and Religious Studies
ATTACH;FMTTYPE=image/jpeg:https://fah.um.edu.mo/wp-content/uploads/2020/10/poster-24-849x1200-1.jpg
ORGANIZER;CN="Philosophy%20and%20Religious%20Studies%20Programme":MAILTO:fah.philosophy@um.edu.mo
END:VEVENT
BEGIN:VEVENT
DTSTART;TZID=Asia/Macau:20191009T110000
DTEND;TZID=Asia/Macau:20191009T120000
DTSTAMP:20260425T224448
CREATED:20201023T084114Z
LAST-MODIFIED:20201023T084122Z
UID:6234-1570618800-1570622400@fah.um.edu.mo
SUMMARY:FAH-ELC talk: Helping Students Discover Self-Confidence Through Speaking
DESCRIPTION:
URL:https://fah.um.edu.mo/event/fah-elc-talk-helping-students-discover-self-confidence-through-speaking/
LOCATION:E3-2043
CATEGORIES:English Language Centre
ATTACH;FMTTYPE=image/jpeg:https://fah.um.edu.mo/wp-content/uploads/2020/10/updated-pd-workshop-flyer_dr-manuel-1-848x1200-1.jpg
ORGANIZER;CN="English%20Language%20Centre":MAILTO:fah.elc@um.edu.mo
END:VEVENT
BEGIN:VEVENT
DTSTART;TZID=Asia/Macau:20191011T173000
DTEND;TZID=Asia/Macau:20191011T173000
DTSTAMP:20260425T224448
CREATED:20201028T070204Z
LAST-MODIFIED:20201028T070204Z
UID:6676-1570815000-1570815000@fah.um.edu.mo
SUMMARY:FAH-DHIST Guest Lecture: Treaties in Danger? Contemporary Crises of International Order in Historical Perspective
DESCRIPTION:“Treaties in Danger? Contemporary Crises of International Order in Historical Perspective” \nAbstract: \nThe rise of political populism in Europe and the United States\, together with its accompanying nationalism and isolationism\, has gener­ated widespread apprehension that instability and division at the national level are scaling up to unsettle the international realm as well. The symptoms seem to be widespread: the Trump administration’s withdrawal from international agreements; Russia’s invasion of Crimea; Brexit; even a failed referendum in Switzerland to prefer “Swiss law over foreign judges”: all seem to indicate a crisis of the so-called “rules-based international order”. The ligaments of that order are treaties – the ties that bind international actors together in webs of trust and obligation. But where did the idea that treaties could create order come from? And what is the relation of treaties to various forms of disorder\, such as empire\, power politics\, and the supremacy of the state over the individual and other competing actors? This lecture traces ideas of treaty-making and treaty-breaking over the centuries to place contemporary concerns in long-range historical perspective.
URL:https://fah.um.edu.mo/event/fah-dhist-guest-lecture-treaties-in-danger-contemporary-crises-of-international-order-in-historical-perspective/
LOCATION:E2\, Library Auditorium
CATEGORIES:Department of History
ATTACH;FMTTYPE=image/jpeg:https://fah.um.edu.mo/wp-content/uploads/2020/10/poster-11-848x1200-1.jpg
ORGANIZER;CN="Department%20of%20History":MAILTO:fah.history@um.edu.mo
END:VEVENT
BEGIN:VEVENT
DTSTART;TZID=Asia/Macau:20191016T160000
DTEND;TZID=Asia/Macau:20191016T160000
DTSTAMP:20260425T224448
CREATED:20201030T092720Z
LAST-MODIFIED:20201030T092720Z
UID:7891-1571241600-1571241600@fah.um.edu.mo
SUMMARY:FAH/PHIL Philosophy and Religious Studies Lecture Series – “Intercultural Questioning” by Dr. Kwok Sai Hang
DESCRIPTION:
URL:https://fah.um.edu.mo/event/fah-phil-philosophy-and-religious-studies-lecture-series-intercultural-questioning-by-dr-kwok-sai-hang/
LOCATION:E21-3118
CATEGORIES:Department of Philosophy and Religious Studies
ATTACH;FMTTYPE=image/jpeg:https://fah.um.edu.mo/wp-content/uploads/2020/10/poster-26-849x1200-1.jpg
ORGANIZER;CN="Philosophy%20and%20Religious%20Studies%20Programme":MAILTO:fah.philosophy@um.edu.mo
END:VEVENT
BEGIN:VEVENT
DTSTART;VALUE=DATE:20191018
DTEND;VALUE=DATE:20191020
DTSTAMP:20260425T224448
CREATED:20201030T092603Z
LAST-MODIFIED:20201030T092603Z
UID:7886-1571356800-1571529599@fah.um.edu.mo
SUMMARY:FAH/PHIL Conference – “Philosophy of Gambling”
DESCRIPTION:October 18th \n9:00-9:15 Opening Remarks \n9:15-10:00 \nFiona Nicoll (Edmonton)  Beyond “the Zone”: Gambling and Political Philosophy \n10:00-10:45 \nTim Simpson (Macau)  The Porcelain Ashtray: Taming the Volatility of Baccarat in Macau \n10:45-11:15 Coffee Break \n11:15-12:00 \nRick Dolphijin (Utrecht)  Gilles Deleuze on the (Ideal) Game \n12:00-12:45 \nKah-Wee Lee (Singapore)  From Vice to Icon: “Moral Laundering” as critique of the present \n13:00-14:30 Lunch \n14:30-15:15 \nDarrel J. B. Manitowabi (Greater Sudbury)  Indigenous Casinos are a Medicine for Colonialism \n15:15-15:45 Coffee Break \n15:45-16:30 \nMark Johnson (Edmonton)  The Unpredictability of Gameplay \n16:30-17:15 \nMelody Lu (Maccau) Temporality and Sociality of Casino Space: Comparing an IR and a Gambling Cruise in Singapore \n17:15-18:00 \nMichael Hemmingsen (Guam)  Do Cheaters Never Prosper? Winning by Deception in Purely Professional Games of Pure Chance \n18:00-18:20 \nCesar Albarran-Torres (Melbourne)  Stock trading apps and digital capitalism: where Wall Street\, Silicon Valley and Las Vegas meet \n19:00 Dinner \n  \nOctober 19th \n9:00-9:45 \nJudith-Frederike Popp (Würzburg)  Daring to play oneself – similarities and differences between gambling and practical self-determination \n9:45-10:30 \nMario Wenning (Macau)  Gambling in Film Noir \n10:30-10:45 Coffee Break \n10:45-11:30 \nNahum Brown (Miyazaki)  Why Does the Future Seem Less Necessary than the Past? Kierkegaard’s Response to Aristotle’s Sea Battle Paradox \n11:30-12:15 \nCsaba Olay (Budapest)  Indulgence in play and gambling: Gadamer and Csíkszentmihályi \n12:30 Lunch \n15:00-18:00 City Tour \n18:00 Dinner
URL:https://fah.um.edu.mo/event/fah-phil-conference-philosophy-of-gambling/
LOCATION:E21-3118
CATEGORIES:Department of Philosophy and Religious Studies
ATTACH;FMTTYPE=image/png:https://fah.um.edu.mo/wp-content/uploads/2020/10/poster-6-848x1200-1.png
ORGANIZER;CN="Philosophy%20and%20Religious%20Studies%20Programme":MAILTO:fah.philosophy@um.edu.mo
END:VEVENT
BEGIN:VEVENT
DTSTART;TZID=Asia/Macau:20191018T143000
DTEND;TZID=Asia/Macau:20191018T160000
DTSTAMP:20260425T224448
CREATED:20201023T084242Z
LAST-MODIFIED:20201023T084249Z
UID:6240-1571409000-1571414400@fah.um.edu.mo
SUMMARY:FAH-ELC Student Activity: Watercolour Painting Workshop **0.5 Smart point
DESCRIPTION:Hey artists! It’s time for you to explore your hidden talent! Let’s use art to water your exhausted soul and body.  In this activity\, you can learn some basic skills about watercolour painting and bring your own masterpiece home. Don’t hesitate! Come and join us! \nSmart point: 0.5 \nRegistration: https://forms.gle/gcbUA5mATHbVQVXg6
URL:https://fah.um.edu.mo/event/fah-elc-student-activity-watercolour-painting-workshop-0-5-smart-point/
LOCATION:E3-3033
CATEGORIES:English Language Centre
ATTACH;FMTTYPE=image/png:https://fah.um.edu.mo/wp-content/uploads/2020/10/water-colour-painting-848x1200-1.png
ORGANIZER;CN="English%20Language%20Centre":MAILTO:fah.elc@um.edu.mo
END:VEVENT
BEGIN:VEVENT
DTSTART;TZID=Asia/Macau:20191025T140000
DTEND;TZID=Asia/Macau:20191025T153000
DTSTAMP:20260425T224448
CREATED:20201023T084432Z
LAST-MODIFIED:20201023T084432Z
UID:6246-1572012000-1572017400@fah.um.edu.mo
SUMMARY:FAH-ELC Student Activity: NOTE-TAKING WORKSHOP **1 Smart Point
DESCRIPTION:The English Language Centre (ELC) is now presenting you the Note-taking Workshop to be held on 25 October\, 2019. This workshop aims to help students learn how to take notes in class in a more efficient way. \nIn this workshop\, students will understand the basic idea of note-taking skill\, learn five types of commonly used symbols in note-taking\, apply symbols mentioned above in exercises at different levels\, and develop the habit of using symbols in note-taking for more productive class learning. \nPlease come and join us! 1 SP\, 15 CS and a notebook will be given to the fully participated students. Snacks and drinks will also be provided! \n*All UM students are welcome to join\, especially for those who have not learned note-taking skill before. \n  \nDate: 25 Oct. 2019 (Fri) \nTime: 14:00 – 15:30 \nVenue: E7-1025 \nFacilitator: ELC ELTAs \n1 SP & 15 CS \nRegistration: scan the QR code in the poster. \nShould you have any enquiries\, please feel free to contact us at fah_elc_elta@umac.mo
URL:https://fah.um.edu.mo/event/fah-elc-student-activity-note-taking-workshop-1-smart-point/
LOCATION:E7-1025
CATEGORIES:English Language Centre
ATTACH;FMTTYPE=image/jpeg:https://fah.um.edu.mo/wp-content/uploads/2020/10/elc-note-taking-workshop-900x1200-1.jpg
ORGANIZER;CN="English%20Language%20Centre":MAILTO:fah.elc@um.edu.mo
END:VEVENT
BEGIN:VEVENT
DTSTART;TZID=Asia/Macau:20191029T183000
DTEND;TZID=Asia/Macau:20191205T210000
DTSTAMP:20260425T224448
CREATED:20201023T073609Z
LAST-MODIFIED:20201023T073609Z
UID:6090-1572373800-1575579600@fah.um.edu.mo
SUMMARY:A1 Level Portuguese Program for Legal Professionals
DESCRIPTION:A1 level Portuguese Program for Legal Professionals \n\nOrganizational units: Portuguese Institute of the Orient (IPOR) & Chinese Portuguese Bilingual Teaching and Training Centre (CPC)\nPeriod: October 29th to December 5th 2019 (30 hours)\nSchedule: Every Mondays and Wednesdays\, from 6.30pm to 9.00pm at IPOR\nRegistration: IPOR reception counter (10:00-18:30)\nSeats limited to 20\, on a first-come-first-served basis. Please complete the registration and pay the deposit to IPOR. Your seat will only be confirmed after making a full deposit payment to IPOR.\nCosts:  500 MOP deposit and refundable if participants meet 80% of attendance requirement; plus 250 MOP for course materials.\nRegistration Link: https://forms.gle/XASiCkYcvsgqTaCx5 (Deadline: 25/10/2019 12:00)
URL:https://fah.um.edu.mo/event/a1-level-portuguese-program-for-legal-professionals/
LOCATION:Portuguese Institute of the Orient (IPOR)
CATEGORIES:Department of Portuguese
ATTACH;FMTTYPE=image/jpeg:https://fah.um.edu.mo/wp-content/uploads/2020/10/poster-law-course-849x1200-1.jpg
ORGANIZER;CN="Chinese-Portuguese%20Bilingual%20Teaching%20and%20Training%20Centre":MAILTO:BilingualCentre@um.edu.mo
END:VEVENT
BEGIN:VEVENT
DTSTART;TZID=Asia/Macau:20191030T160000
DTEND;TZID=Asia/Macau:20191030T160000
DTSTAMP:20260425T224448
CREATED:20201030T092454Z
LAST-MODIFIED:20201030T092454Z
UID:7881-1572451200-1572451200@fah.um.edu.mo
SUMMARY:FAH/PHIL Philosophy and Religious Studies Lecture Series – “Heidegger’s who-analysis in being and time and his idea of communal being” by Prof. Qingjie Wang
DESCRIPTION:
URL:https://fah.um.edu.mo/event/fah-phil-philosophy-and-religious-studies-lecture-series-heideggers-who-analysis-in-being-and-time-and-his-idea-of-communal-being-by-prof-qingjie-wang/
LOCATION:E21-3118
CATEGORIES:Department of Philosophy and Religious Studies
ATTACH;FMTTYPE=image/jpeg:https://fah.um.edu.mo/wp-content/uploads/2020/10/poster-wang-qingjie-849x1200-1.jpg
ORGANIZER;CN="Philosophy%20and%20Religious%20Studies%20Programme":MAILTO:fah.philosophy@um.edu.mo
END:VEVENT
BEGIN:VEVENT
DTSTART;TZID=Asia/Macau:20191031T144500
DTEND;TZID=Asia/Macau:20191031T144500
DTSTAMP:20260425T224448
CREATED:20201023T092607Z
LAST-MODIFIED:20201023T092607Z
UID:6337-1572533100-1572533100@fah.um.edu.mo
SUMMARY:FAH-DCLL Academic Seminar: “Comparison of literature Texts and Research on the Evolution of Early Modern Chinese” by Prof. Zhang Meilan 人文學院中國語言文學系學術講座：“文獻文本比較與近代 漢語演變研究”- 張美蘭教授
DESCRIPTION:摘要：文本（Text），或因文獻刊刻版本不同，或因傳抄過程中輾轉引用，或因編修者個人的傾向不同，所處時代的影響，其流布方式多樣。文獻文本變革是語言變異的重要線索。尤其是同一文獻多文本、多途徑傳播，成為我們瞭解語言文化歷時演變的寶貴資料。不同版本用字、用詞及句法異同是漢語語言研究的重要材料。多版本綜合比較作為一種研究方法，也是尋找語言發展變化的一個重要視角。講座將以這一線索展開，說明近代漢語語言歷史變化的特點。
URL:https://fah.um.edu.mo/event/fah-dcll-academic-seminar-comparison-of-literature-texts-and-research-on-the-evolution-of-early-modern-chinese-by-prof-zhang-meilan-%e4%ba%ba%e6%96%87%e5%ad%b8%e9%99%a2%e4%b8%ad/
LOCATION:E21-3118
CATEGORIES:Department of Chinese language and Literature
ATTACH;FMTTYPE=image/jpeg:https://fah.um.edu.mo/wp-content/uploads/2020/10/poster_e5bcb5e7be8ee898ade69599e68e88-848x1200-1.jpg
ORGANIZER;CN="Department%20of%20Chinese%20Language%20and%20Literature":MAILTO:fah.chinese@um.edu.mo
END:VEVENT
BEGIN:VEVENT
DTSTART;TZID=Asia/Macau:20191031T150000
DTEND;TZID=Asia/Macau:20191031T150000
DTSTAMP:20260425T224448
CREATED:20201023T092755Z
LAST-MODIFIED:20201023T092755Z
UID:6342-1572534000-1572534000@fah.um.edu.mo
SUMMARY:FAH-DCLL Academic Seminar: “Several Questions of Folk Culture Studies” by Prof. Zhang Mingyuan 人文學院中國語言文學系學術講座：“民俗文化研究的幾個問題”- 張明遠教授
DESCRIPTION:摘要：民俗文化包括民歌民謠，民間戲曲，民間風俗和生活習慣。民俗文化研究的歷史：鍾敬文先生的貢獻。民俗文化與文化人類學、社會學和藝術美學的關係。嶺南民俗文化研究的重要性以及可預期成果。民族文化研究的國際視野以及敘述開拓。
URL:https://fah.um.edu.mo/event/fah-dcll-academic-seminar-several-questions-of-folk-culture-studies-by-prof-zhang-mingyuan-%e4%ba%ba%e6%96%87%e5%ad%b8%e9%99%a2%e4%b8%ad%e5%9c%8b%e8%aa%9e%e8%a8%80%e6%96%87/
LOCATION:E21-2003
CATEGORIES:Department of Chinese language and Literature
ATTACH;FMTTYPE=image/jpeg:https://fah.um.edu.mo/wp-content/uploads/2020/10/poster_e5bcb5e6988ee981a0e69599e68e88-848x1200-1.jpg
ORGANIZER;CN="Department%20of%20Chinese%20Language%20and%20Literature":MAILTO:fah.chinese@um.edu.mo
END:VEVENT
END:VCALENDAR