BEGIN:VCALENDAR
VERSION:2.0
PRODID:-//Faculty of Arts and Humanities | University of Macau - ECPv5.15.0.1//NONSGML v1.0//EN
CALSCALE:GREGORIAN
METHOD:PUBLISH
X-WR-CALNAME:Faculty of Arts and Humanities | University of Macau
X-ORIGINAL-URL:https://fah.um.edu.mo
X-WR-CALDESC:Events for Faculty of Arts and Humanities | University of Macau
REFRESH-INTERVAL;VALUE=DURATION:PT1H
X-Robots-Tag:noindex
X-PUBLISHED-TTL:PT1H
BEGIN:VTIMEZONE
TZID:Asia/Macau
BEGIN:STANDARD
TZOFFSETFROM:+0800
TZOFFSETTO:+0800
TZNAME:CST
DTSTART:20190101T000000
END:STANDARD
END:VTIMEZONE
BEGIN:VEVENT
DTSTART;TZID=Asia/Macau:20191029T183000
DTEND;TZID=Asia/Macau:20191205T210000
DTSTAMP:20260425T224518
CREATED:20201023T073609Z
LAST-MODIFIED:20201023T073609Z
UID:6090-1572373800-1575579600@fah.um.edu.mo
SUMMARY:A1 Level Portuguese Program for Legal Professionals
DESCRIPTION:A1 level Portuguese Program for Legal Professionals \n\nOrganizational units: Portuguese Institute of the Orient (IPOR) & Chinese Portuguese Bilingual Teaching and Training Centre (CPC)\nPeriod: October 29th to December 5th 2019 (30 hours)\nSchedule: Every Mondays and Wednesdays\, from 6.30pm to 9.00pm at IPOR\nRegistration: IPOR reception counter (10:00-18:30)\nSeats limited to 20\, on a first-come-first-served basis. Please complete the registration and pay the deposit to IPOR. Your seat will only be confirmed after making a full deposit payment to IPOR.\nCosts:  500 MOP deposit and refundable if participants meet 80% of attendance requirement; plus 250 MOP for course materials.\nRegistration Link: https://forms.gle/XASiCkYcvsgqTaCx5 (Deadline: 25/10/2019 12:00)
URL:https://fah.um.edu.mo/event/a1-level-portuguese-program-for-legal-professionals/
LOCATION:Portuguese Institute of the Orient (IPOR)
CATEGORIES:Department of Portuguese
ATTACH;FMTTYPE=image/jpeg:https://fah.um.edu.mo/wp-content/uploads/2020/10/poster-law-course-849x1200-1.jpg
ORGANIZER;CN="Chinese-Portuguese%20Bilingual%20Teaching%20and%20Training%20Centre":MAILTO:BilingualCentre@um.edu.mo
END:VEVENT
BEGIN:VEVENT
DTSTART;TZID=Asia/Macau:20191112T183000
DTEND;TZID=Asia/Macau:20191204T203000
DTSTAMP:20260425T224518
CREATED:20201023T073841Z
LAST-MODIFIED:20201023T073958Z
UID:6095-1573583400-1575491400@fah.um.edu.mo
SUMMARY:FAH-CPC: Portuguese Culture Course
DESCRIPTION:Course Outline:\nThe course consists of a total of 8 sessions of 2 hours each\, and aims to provide an introduction to the essentials of Portuguese as a variety of cultural domains\, material and immaterial. At the end of the course\, the audience is expected to be better prepared to understand the cultural references driving Portuguese presence in Macao and the world. \nTopics:\nClass 1. An identity centered on language. Portuguese and other languages in Portugal. General introduction to Portuguese language history and geography\, past and present.\nClass 2. The growth of a country in feudal times. Lyricism and the feminine: cantigas de amigo\, Rainha Santa Isabel (and D. Dinis)\, Inês de Castro\, Menina e Moça\, “Barbara the slave”. Medieval poetry and contemporary popular music.\nClass 3. The establishment of a nation in history\, literature and art. Batalha\, Fernão Lopes\, Nuno Gonçalves.\nClass 4. Expansion and the East I: literature out of history. Three authors (Gil Vicente\, Luís de Camões and Fernão Mendes Pinto) and three texts (Índia\, Os Lusíadas\, Peregrinação). Sixteenth-century travel and contemporary popular music: Fausto Bordalo Dias.\nClass 5. Expansion and the East II: stories and myths. The shipwreck of Sepúlveda and King Sebastião in history\, contemporary music and film.\nClass 6. The second Portuguese empire: Brazil\, from António Vieira and the Gold Cycle to Independence. The third Portuguese empire: Africa\, from the Rose-Coloured Map to the Colonial Wars.\nClass 7. Contemporary Portugal I. Nationalist symbolism and commemoration. The cockerel from Barcelos and other handicrafts. Popular music before the Carnation Revolution (1974): Lisbon fado\, Coimbra fado/balada and back to lyric.\nClass 8. Contemporary Portugal II. History and art after the Carnation Revolution. Popular traditions today. \nSpeaker:\nProfessor Hélio Alves joined the University of Macau as Associate Professor of Portuguese Literature in January 2019. He is a well-known scholar of Renaissance and Early Modern Portuguese and Comparative Literature\, and also the director of Chinese-Portuguese Bilingual Teaching and Training Centre (CPC). \nSeats are limited to 20 and registrations are on a first-come-first-served basis. Please register by 8 November 2019 12:00PM. \nTo register\, please scan the QR code on the attached poster or visit the following link: https://forms.gle/taFryZsa4fi2UkaH8
URL:https://fah.um.edu.mo/event/fah-cpc-portuguese-culture-course/
LOCATION:Centro de Formação dos Trabalhadores dos Serviços Públicos Alameda Dr. Carlos D’Assumpção Nos. 336-342 Centro Comercial Cheng Feng 6° Andar\, Sala 609-611\, Macao
CATEGORIES:Department of Portuguese
ATTACH;FMTTYPE=image/png:https://fah.um.edu.mo/wp-content/uploads/2020/10/e891a1e89084e78999e69687e58c96e8aab2e7a88b-848x1200-1.png
ORGANIZER;CN="Chinese-Portuguese%20Bilingual%20Teaching%20and%20Training%20Centre":MAILTO:BilingualCentre@um.edu.mo
END:VEVENT
BEGIN:VEVENT
DTSTART;TZID=Asia/Macau:20191114T190000
DTEND;TZID=Asia/Macau:20191212T220000
DTSTAMP:20260425T224518
CREATED:20201023T074501Z
LAST-MODIFIED:20201023T074600Z
UID:6109-1573758000-1576188000@fah.um.edu.mo
SUMMARY:FAH-CPC: Chinese-Portuguese Legal Translation Workshop III
DESCRIPTION:
URL:https://fah.um.edu.mo/event/fah-cpc-chinese-portuguese-legal-translation-workshop-iii/
LOCATION:E21-1043\, Faculty of Arts and Humanities
CATEGORIES:Department of Portuguese
ATTACH;FMTTYPE=image/jpeg:https://fah.um.edu.mo/wp-content/uploads/2020/10/mini-curso-de-traduccca7acc83o-juridica-chinecc82s-portuguecc82s-iii-848x1200-1.jpg
ORGANIZER;CN="Chinese-Portuguese%20Bilingual%20Teaching%20and%20Training%20Centre":MAILTO:BilingualCentre@um.edu.mo
END:VEVENT
BEGIN:VEVENT
DTSTART;TZID=Asia/Macau:20191120T183000
DTEND;TZID=Asia/Macau:20191218T210000
DTSTAMP:20260425T224518
CREATED:20201023T074331Z
LAST-MODIFIED:20201023T074331Z
UID:6101-1574274600-1576702800@fah.um.edu.mo
SUMMARY:Class 2 – A1 Level Portuguese Program for Legal Professionals
DESCRIPTION:Class 2 – A1 level Portuguese Program for Legal Professionals \n\nOrganizational units: Portuguese Institute of the Orient (IPOR) & Chinese Portuguese Bilingual Teaching and Training Centre (CPC)\nPeriod: November 20th to December 18th 2019 (30 hours)\nSchedule: Every Monday\, Wednesday and Friday\, from 6.30pm to 9.00pm at IPOR\nRegistration: IPOR reception counter (10:00-18:30)\nSeats limited to 20\, on a first-come-first-served basis. Please complete the registration and pay the deposit to IPOR. Your seat will only be confirmed after making a full deposit payment to IPOR.\nCosts:  500 MOP deposit and refundable if participants meet 80% of attendance requirement; plus 250 MOP for course materials.\nRegistration Link: https://forms.gle/cp9f4Gpi6oucrqCq9 (Deadline: 12:00 p.m. November 19th 2019)
URL:https://fah.um.edu.mo/event/class-2-a1-level-portuguese-program-for-legal-professionals/
LOCATION:Portuguese Institute of the Orient (IPOR)
CATEGORIES:Department of Portuguese
ATTACH;FMTTYPE=image/jpeg:https://fah.um.edu.mo/wp-content/uploads/2020/10/curso-direito-01-1.jpg
ORGANIZER;CN="Chinese-Portuguese%20Bilingual%20Teaching%20and%20Training%20Centre":MAILTO:BilingualCentre@um.edu.mo
END:VEVENT
BEGIN:VEVENT
DTSTART;VALUE=DATE:20191203
DTEND;VALUE=DATE:20191204
DTSTAMP:20260425T224518
CREATED:20201023T083458Z
LAST-MODIFIED:20201023T083506Z
UID:6218-1575331200-1575417599@fah.um.edu.mo
SUMMARY:FAH-ELC: International Conference – Furthering English Language Teaching
DESCRIPTION:Please find more details and abstracts through the survey in the Registration Link below. \n  \nLimited seats available and please register through here: https://umac.au1.qualtrics.com/jfe/form/SV_da2448HbnIgNWYJ  or scan the QR code in the poster.
URL:https://fah.um.edu.mo/event/fah-elc-international-conference-furthering-english-language-teaching/
LOCATION:E3-1032
CATEGORIES:English Language Centre
ATTACH;FMTTYPE=image/png:https://fah.um.edu.mo/wp-content/uploads/2020/10/poster_updated_elc.png
ORGANIZER;CN="English%20Language%20Centre":MAILTO:fah.elc@um.edu.mo
END:VEVENT
BEGIN:VEVENT
DTSTART;VALUE=DATE:20191211
DTEND;VALUE=DATE:20191213
DTSTAMP:20260425T224518
CREATED:20201023T080820Z
LAST-MODIFIED:20201023T080844Z
UID:6150-1576022400-1576195199@fah.um.edu.mo
SUMMARY:FAH/PHIL: Lisbon-Macau Philosophy Symposium – “Philosophical Encounters between the Lusophone- and the Chinese-speaking World as a bridge between East and West”
DESCRIPTION:
URL:https://fah.um.edu.mo/event/fah-phil-lisbon-macau-philosophy-symposium-philosophical-encounters-between-the-lusophone-and-the-chinese-speaking-world-as-a-bridge-between-east-and-west/
LOCATION:University of Lisbon
CATEGORIES:Department of Philosophy and Religious Studies
ATTACH;FMTTYPE=image/png:https://fah.um.edu.mo/wp-content/uploads/2020/10/poster-1-848x1200-1.png
ORGANIZER;CN="Philosophy%20and%20Religious%20Studies%20Programme":MAILTO:fah.philosophy@um.edu.mo
END:VEVENT
BEGIN:VEVENT
DTSTART;TZID=Asia/Macau:20191211T103000
DTEND;TZID=Asia/Macau:20191211T103000
DTSTAMP:20260425T224518
CREATED:20201023T091110Z
LAST-MODIFIED:20201023T091110Z
UID:6293-1576060200-1576060200@fah.um.edu.mo
SUMMARY:FAH-DCLL Academic Seminar: “Grammar? Use?” by Prof. Luke Kang Kwong 人文學院中國語言文學系學術講座：“語法？用法？”- 陸鏡光教授
DESCRIPTION:摘要：語言哲學家維根斯坦有這樣一句名言：“意義就是用法。”這樣一句既是難解也是寓意極深的話，道理應該如何理解？本文通過實例，闡述維根斯坦這句話的意思，又引用人類方法學、會話分析、以及純粹構式語法的多元概念，進一步思考語法和用法之間的關係，同時說明，語法其實就是用法。
URL:https://fah.um.edu.mo/event/fah-dcll-academic-seminar-grammar-use-by-prof-luke-kang-kwong-%e4%ba%ba%e6%96%87%e5%ad%b8%e9%99%a2%e4%b8%ad%e5%9c%8b%e8%aa%9e%e8%a8%80%e6%96%87%e5%ad%b8%e7%b3%bb%e5%ad%b8/
LOCATION:E21-3118
CATEGORIES:Department of Chinese language and Literature
ATTACH;FMTTYPE=image/jpeg:https://fah.um.edu.mo/wp-content/uploads/2020/10/poster_e999b8e98fa1e58589e69599e68e88-848x1200-1.jpg
ORGANIZER;CN="Department%20of%20Chinese%20Language%20and%20Literature":MAILTO:fah.chinese@um.edu.mo
END:VEVENT
END:VCALENDAR